Workbook
Name Abrechnungsdatum: STATISTIK!$D$27
Name bezirke: STATISTIK!$A$135:$A$141
Name MD_Anzahl: #REF!
Name MD_Auftragsdatum: #REF!
Name MD_Auftragswert: #REF!
Name MD_Ausgaben_ges: #REF!
Name MD_Ausgaben_zuw: #REF!
Name MD_Gegenstand: #REF!
Name PR_Anzahl: #REF!
Name PR_Ausgaben: #REF!
Name PR_Entscheidung: #REF!
Name Sofortauszahlung: "Check Box 108"
Name Text3: Antrag_SoLD_2_0!$D$20
Name VN_Ausgaben: #REF!

Sheet Antrag_SoLD_2_0
A1: Antrag auf Neufestsetzung der staatlichen Leistung in der ergänzenden Vollausstattungsrunde im Schuljahr 2022/2023 gemäß Nr. 7.4 SoLD
A4: Elektronisches Antragsformular (.xlsx) per E-Mail an: | F4: Zutreffendes bitte ankreuzen T oder ausfüllen
A5: =IF(MID(F9,2,1)="x","An die zuständige Stelle im Staatsministerium",CONCATENATE("An die Regierung ",IF(LEFT(F9)="3","der ","von "),IF(LEFT(F9)="1","Oberbayern",IF(LEFT(F9)="2","Niedebayern",IF(LEFT(F9)="3","Oberpfalz",IF(LEFT(F9)="4","Oberfranken",IF(LEFT(F9)="5","Mittelfranken",IF(LEFT(F9)="6","Unterfranken",IF(LEFT(F9)="7","Schwaben","XX"))))))))) -> An die Regierung von XX
A6: =IF(MID(F9,2,1)="x","",CONCATENATE("lehrerdienstgeraete@reg-",IF(LEFT(F9)="1","ob",IF(LEFT(F9)="2","nb",IF(LEFT(F9)="3","opf",IF(LEFT(F9)="4","ofr",IF(LEFT(F9)="5","mfr",IF(LEFT(F9)="6","ufr",IF(LEFT(F9)="7","schw","XX"))))))),".bayern.de")) -> lehrerdienstgeraete@reg-XX.bayern.de
A8: sowie an die benannte Stelle | F8: Kennziffer des Schulaufwandsträgers
A9: lehrerdienstgeraete@stmuk.bayern.de
A12: 1. | B12: Antragsteller (Datenaktualisierung)
B13: Der Antragsteller ist ein/eine:
B14: Name laut Anlage zur SoLD
B15: =IFERROR(INDEX(tab_SATLISTE[Schulaufwandsträger],MATCH($F$9,tab_SATLISTE[SAT-ID],0)),"Bitte geben Sie eine gültige TKZ in Zelle [F9] ein.") -> Bitte geben Sie eine gültige TKZ in Zelle [F9] ein.
B16: Straße, Hausnummer | F16: PLZ | G16: Ort
B18: Bankverbindung (IBAN, Geldinstitut)
B20: Auskunft erteilt (ggf. Vertretungsberechtigte/r)
B22: Telefon | D22: E-Mail-Adresse (Ansprechpartner) | G22: elektron. Übermittlung an (sofern eröffnet):
A25: 2. | B25: Erweiterung der Maßnahme
B26: =CONCATENATE("Beschaffung von mindestens ", IF(H36>0,H42,"(NR. 4 NOCH AUSZUFÜLLEN)"), " schulgebundenen mobilen Endgeräten einschließlich erforderlichem Zubehör, die Lehrkräften sowie dem weiteren pädagogischen Personal ","als personenbezogene digitale Dienstgeräte dauerhaft oder für einen längeren Zeitraum zur dienstlichen Verwendung innerhalb und außerhalb der Schule zugeordnet werden.") -> Beschaffung von mindestens (NR. 4 NOCH AUSZUFÜLLEN) schulgebundenen mobilen Endgeräten einschließlich erforderlichem Zubehör, die Lehrkräften sowie dem weiteren pädagogischen Personal als personenbezogene digitale Dienstgeräte dauerhaft oder für einen längeren Zeitraum zur dienstlichen Verwendung innerhalb und außerhalb der Schule zugeordnet werden.
A28: 3. | B28: Geändertes Sonderbudget Lehrerdienstgeräte
B29: Gerätezahl im Sonderbudget Lehrerdienstgeräte gemäß (geänderter) Anlage zur SoLD | H29: =IF($F$9="",0,IFERROR(VLOOKUP($F$9,tab_SATLISTE[],3,FALSE),"")) -> 0
B30: Budgetbetrag im Sonderbudget Lehrerdienstgeräte gemäß (geänderter) Anlage zur SoLD | H30: =IF($F$9="",0,IFERROR(VLOOKUP($F$9,tab_SATLISTE[],4,FALSE),"")) -> 0
B31: … dar. Verwaltungskostenpauschale gemäß (geänderter) Anlage zur SoLD von maximal | H31: =IF($F$9="",0,IFERROR(VLOOKUP($F$9,tab_SATLISTE[],5,FALSE),"")) -> 0
B32: Antragsgrenze gemäß (geänderter) Anlage zur SoLD | H32: =IF($F$9="",0,IFERROR(VLOOKUP($F$9,tab_SATLISTE[],6,FALSE),"")) -> 0
A34: 4. | B34: Gesamtbedarf an Lehrerdienstgeräten für die Neufestsetzung
B35: Bitte geben Sie hier den neuen Gesamtbedarf ein.
B36: Anzahl an Lehrerdienstgeräten (neuer Gesamtbedarf)
A38: 5. | B38: Beantragte staatliche Leistung im Sonderbudget Lehrerdienstgeräte
B39: Hiermit wird die Neufestsetzung der staatlichen Leistung aus dem "Sonderbudget Lehrerdienstgeräte (SoLD)" des Bayerischen Staatsministeriums für Unterricht und Kultus (Neufassung der KMBek vom 17.10.2022, Az. I.5-BS4400.27/390/416) durch Teilnahme an der ergänzenden Vollausstattungsrunde im Kalenderjahr 2022 gemäß Nr. 7.4 SoLD beantragt.
B40: Beantragte staatliche Leistung (neuer Gesamtbetrag nach Budgetbegrenzung) | H40: =IFERROR(H42*1000,"")
B41: … dar. (neue) Verwaltungskostenpauschale gemäß Nr. 6.4 SoLD in Höhe von bis zu | H41: =IFERROR(H42*250,"")
B42: (neue) Mindestgeräteanzahl gemäß Nr. 6.2 Satz 6 SoLD: | H42: =IFERROR(IF(STATISTIK!C152,IF($F$9="","TKZ fehlt",IF(H36="","Bedarf fehlt",MAX(SUM(H44:H45),MIN(H36,VLOOKUP(F9,tab_SATLISTE[],3,FALSE))))),""),"")
B43: Hiermit wird folgende Erhöhung der staatlichen Leistung im Rahmen der ergänzenden Vollausstattungsrunde im Kalenderjahr 2022 gemäß Nr. 7.4 SoLD beantragt:
B44: Erstbewilligung gemäß Nr. 7.2 SoLD ohne Nachbewilligungsrunde (Einheiten)*
B45: Ggf. Erhöhung in der Integrierten Nachbewilligungsrunde gemäß Nr. 7.3 SoLD (Einheiten)*
B46: Erhöhung in der ergänzenden Vollausstattungsrunde gemäß Nr. 7.4 SoLD (Einheiten) | H46: =IFERROR(IF(AND(STATISTIK!C152),IF($F$9="","TKZ fehlt",IF(H44="","",MAX(0,H42-SUM(H44:H45)))),""),"")
B47: * Eintragungen werden im Zuge der Bewilligung aus dem Datenbestand der Regierung ggf. korrigiert (Rotfärbung).
A49: 6. | B49: NUR bei Wechsel der Schulaufwandsträgerschaft auszufüllen (Geräteübergang)
B50: a) Weitergabe von Geräten an einen neuen Schulaufwandsträger (abgebender Schulaufwandsträger)
B51: Nur auszufüllen, sofern eine Schule, für die der Leistungsempfänger Geräte beschafft hat, zu einem anderen Schulaufwandsträger übergegangen ist und die Geräte (kostenfrei) weitergegeben wurden (abgebender Schulaufwandsträger).
B52: Schulnummer | C52: bisheriger Schulaufwandsträger | F52: neuer Schulaufwandsträger | H52: übergebene Geräte
C53: =IF(B53<>"",$F$9,"") | D53: =IFERROR(INDEX(tab_SATLISTE[Schulaufwandsträger],MATCH(C53,tab_SATLISTE[SAT-ID],0)),"") | G53: =IF(B53="","",IFERROR(INDEX(tab_SATLISTE[Schulaufwandsträger],MATCH(F53,tab_SATLISTE[SAT-ID],0)),"Bitte gültige TKZ eingeben!"))
C54: =IF(B54<>"",$F$9,"") | D54: =IFERROR(INDEX(tab_SATLISTE[Schulaufwandsträger],MATCH(C54,tab_SATLISTE[SAT-ID],0)),"") | G54: =IF(B54="","",IFERROR(INDEX(tab_SATLISTE[Schulaufwandsträger],MATCH(F54,tab_SATLISTE[SAT-ID],0)),"Bitte gültige TKZ eingeben!"))
...

Sheet SATLISTE
A1: =SUMPRODUCT(1*(A3:A5000<>"")) -> 2549 | C1: =SUBTOTAL(9,tab_SATLISTE[Gerätezahl]) -> 147347 | D1: =SUBTOTAL(9,tab_SATLISTE[Sonderbudget]) -> 147347000 | E1: =SUBTOTAL(9,tab_SATLISTE[Pauschale]) -> 36836750 | F1: =SUBTOTAL(9,tab_SATLISTE[Antragsgrenze]) -> 147347
A2: SAT-ID | B2: Schulaufwandsträger | C2: Gerätezahl | D2: Sonderbudget | E2: Pauschale | F2: Antragsgrenze | G2: RBZ
A3: 4p022 | B3: Erzdiözese Bamberg | C3: 140 | D3: 140000 | E3: 35000 | F3: 140 | G3: =IF(MID(tab_SATLISTE[[#This Row],[SAT-ID]],2,1)="x","x",LEFT(tab_SATLISTE[[#This Row],[SAT-ID]])) -> 4 | H3: =IF(tab_SATLISTE[[#This Row],[SAT-ID]]="","",IF(MID(tab_SATLISTE[[#This Row],[SAT-ID]],2,1)="x","Freistaat Bayern",INDEX(bezirke,LEFT(tab_SATLISTE[[#This Row],[SAT-ID]],1))& " - "& IF(MID(tab_SATLISTE[[#This Row],[SAT-ID]],2,1)="k","kommunal","privat"))) -> Oberfranken - privat
A4: 1k277 | B4: München, Landeshauptstadt, Kreisfreie Stadt | C4: 12626 | D4: 12626000 | E4: 3156500 | F4: 12626 | G4: =IF(MID(tab_SATLISTE[[#This Row],[SAT-ID]],2,1)="x","x",LEFT(tab_SATLISTE[[#This Row],[SAT-ID]])) -> 1 | H4: =IF(tab_SATLISTE[[#This Row],[SAT-ID]]="","",IF(MID(tab_SATLISTE[[#This Row],[SAT-ID]],2,1)="x","Freistaat Bayern",INDEX(bezirke,LEFT(tab_SATLISTE[[#This Row],[SAT-ID]],1))& " - "& IF(MID(tab_SATLISTE[[#This Row],[SAT-ID]],2,1)="k","kommunal","privat"))) -> Oberbayern - kommunal
A5: 3p018 | B5: Gesellschaft für Erwachsenenbildung e.V., Regensburg | C5: 10 | D5: 10000 | E5: 2500 | F5: 10 | G5: =IF(MID(tab_SATLISTE[[#This Row],[SAT-ID]],2,1)="x","x",LEFT(tab_SATLISTE[[#This Row],[SAT-ID]])) -> 3 | H5: =IF(tab_SATLISTE[[#This Row],[SAT-ID]]="","",IF(MID(tab_SATLISTE[[#This Row],[SAT-ID]],2,1)="x","Freistaat Bayern",INDEX(bezirke,LEFT(tab_SATLISTE[[#This Row],[SAT-ID]],1))& " - "& IF(MID(tab_SATLISTE[[#This Row],[SAT-ID]],2,1)="k","kommunal","privat"))) -> Oberpfalz - privat
A6: 6p024 | B6: Fränkische Akademie für Sprache und Kommunikation und berufliche Fortbildung e.V. | C6: 14 | D6: 14000 | E6: 3500 | F6: 14 | G6: =IF(MID(tab_SATLISTE[[#This Row],[SAT-ID]],2,1)="x","x",LEFT(tab_SATLISTE[[#This Row],[SAT-ID]])) -> 6 | H6: =IF(tab_SATLISTE[[#This Row],[SAT-ID]]="","",IF(MID(tab_SATLISTE[[#This Row],[SAT-ID]],2,1)="x","Freistaat Bayern",INDEX(bezirke,LEFT(tab_SATLISTE[[#This Row],[SAT-ID]],1))& " - "& IF(MID(tab_SATLISTE[[#This Row],[SAT-ID]],2,1)="k","kommunal","privat"))) -> Unterfranken - privat
A7: 5p026 | B7: Fränkische Akademie e.V. | C7: 36 | D7: 36000 | E7: 9000 | F7: 36 | G7: =IF(MID(tab_SATLISTE[[#This Row],[SAT-ID]],2,1)="x","x",LEFT(tab_SATLISTE[[#This Row],[SAT-ID]])) -> 5 | H7: =IF(tab_SATLISTE[[#This Row],[SAT-ID]]="","",IF(MID(tab_SATLISTE[[#This Row],[SAT-ID]],2,1)="x","Freistaat Bayern",INDEX(bezirke,LEFT(tab_SATLISTE[[#This Row],[SAT-ID]],1))& " - "& IF(MID(tab_SATLISTE[[#This Row],[SAT-ID]],2,1)="k","kommunal","privat"))) -> Mittelfranken - privat
A8: 1k050 | B8: Berchtesgadener Land, Landkreis | C8: 359 | D8: 359000 | E8: 89750 | F8: 359 | G8: =IF(MID(tab_SATLISTE[[#This Row],[SAT-ID]],2,1)="x","x",LEFT(tab_SATLISTE[[#This Row],[SAT-ID]])) -> 1 | H8: =IF(tab_SATLISTE[[#This Row],[SAT-ID]]="","",IF(MID(tab_SATLISTE[[#This Row],[SAT-ID]],2,1)="x","Freistaat Bayern",INDEX(bezirke,LEFT(tab_SATLISTE[[#This Row],[SAT-ID]],1))& " - "& IF(MID(tab_SATLISTE[[#This Row],[SAT-ID]],2,1)="k","kommunal","privat"))) -> Oberbayern - kommunal
A9: 1k481 | B9: Weilheim-Schongau, Landkreis | C9: 703 | D9: 703000 | E9: 175750 | F9: 703 | G9: =IF(MID(tab_SATLISTE[[#This Row],[SAT-ID]],2,1)="x","x",LEFT(tab_SATLISTE[[#This Row],[SAT-ID]])) -> 1 | H9: =IF(tab_SATLISTE[[#This Row],[SAT-ID]]="","",IF(MID(tab_SATLISTE[[#This Row],[SAT-ID]],2,1)="x","Freistaat Bayern",INDEX(bezirke,LEFT(tab_SATLISTE[[#This Row],[SAT-ID]],1))& " - "& IF(MID(tab_SATLISTE[[#This Row],[SAT-ID]],2,1)="k","kommunal","privat"))) -> Oberbayern - kommunal
A10: 1k442 | B10: Traunstein, Landkreis | C10: 773 | D10: 773000 | E10: 193250 | F10: 773 | G10: =IF(MID(tab_SATLISTE[[#This Row],[SAT-ID]],2,1)="x","x",LEFT(tab_SATLISTE[[#This Row],[SAT-ID]])) -> 1 | H10: =IF(tab_SATLISTE[[#This Row],[SAT-ID]]="","",IF(MID(tab_SATLISTE[[#This Row],[SAT-ID]],2,1)="x","Freistaat Bayern",INDEX(bezirke,LEFT(tab_SATLISTE[[#This Row],[SAT-ID]],1))& " - "& IF(MID(tab_SATLISTE[[#This Row],[SAT-ID]],2,1)="k","kommunal","privat"))) -> Oberbayern - kommunal
A11: 1p082 | B11: Gemeinützige Gesellschaft Dr. Kalscheuer mbH | C11: 58 | D11: 58000 | E11: 14500 | F11: 58 | G11: =IF(MID(tab_SATLISTE[[#This Row],[SAT-ID]],2,1)="x","x",LEFT(tab_SATLISTE[[#This Row],[SAT-ID]])) -> 1 | H11: =IF(tab_SATLISTE[[#This Row],[SAT-ID]]="","",IF(MID(tab_SATLISTE[[#This Row],[SAT-ID]],2,1)="x","Freistaat Bayern",INDEX(bezirke,LEFT(tab_SATLISTE[[#This Row],[SAT-ID]],1))& " - "& IF(MID(tab_SATLISTE[[#This Row],[SAT-ID]],2,1)="k","kommunal","privat"))) -> Oberbayern - privat
A12: 1p184 | B12: Private Oberlandschulen e.V. | C12: 27 | D12: 27000 | E12: 6750 | F12: 27 | G12: =IF(MID(tab_SATLISTE[[#This Row],[SAT-ID]],2,1)="x","x",LEFT(tab_SATLISTE[[#This Row],[SAT-ID]])) -> 1 | H12: =IF(tab_SATLISTE[[#This Row],[SAT-ID]]="","",IF(MID(tab_SATLISTE[[#This Row],[SAT-ID]],2,1)="x","Freistaat Bayern",INDEX(bezirke,LEFT(tab_SATLISTE[[#This Row],[SAT-ID]],1))& " - "& IF(MID(tab_SATLISTE[[#This Row],[SAT-ID]],2,1)="k","kommunal","privat"))) -> Oberbayern - privat
A13: 1p224 | B13: Verein der neuen Jazzschool München e.V. | C13: 19 | D13: 19000 | E13: 4750 | F13: 19 | G13: =IF(MID(tab_SATLISTE[[#This Row],[SAT-ID]],2,1)="x","x",LEFT(tab_SATLISTE[[#This Row],[SAT-ID]])) -> 1 | H13: =IF(tab_SATLISTE[[#This Row],[SAT-ID]]="","",IF(MID(tab_SATLISTE[[#This Row],[SAT-ID]],2,1)="x","Freistaat Bayern",INDEX(bezirke,LEFT(tab_SATLISTE[[#This Row],[SAT-ID]],1))& " - "& IF(MID(tab_SATLISTE[[#This Row],[SAT-ID]],2,1)="k","kommunal","privat"))) -> Oberbayern - privat
A14: 1p062 | B14: Franziskuswerk Schönbrunn gGmbH | C14: 134 | D14: 134000 | E14: 33500 | F14: 134 | G14: =IF(MID(tab_SATLISTE[[#This Row],[SAT-ID]],2,1)="x","x",LEFT(tab_SATLISTE[[#This Row],[SAT-ID]])) -> 1 | H14: =IF(tab_SATLISTE[[#This Row],[SAT-ID]]="","",IF(MID(tab_SATLISTE[[#This Row],[SAT-ID]],2,1)="x","Freistaat Bayern",INDEX(bezirke,LEFT(tab_SATLISTE[[#This Row],[SAT-ID]],1))& " - "& IF(MID(tab_SATLISTE[[#This Row],[SAT-ID]],2,1)="k","kommunal","privat"))) -> Oberbayern - privat
... A2551: 4x912 | B2551: Freistaat Bayern - Studienkolleg bei den Fachhochschulen des Freistaates Bayern in Coburg | C2551: 9 | D2551: 9000 | E2551: 2250 | F2551: 9 | G2551: =IF(MID(tab_SATLISTE[[#This Row],[SAT-ID]],2,1)="x","x",LEFT(tab_SATLISTE[[#This Row],[SAT-ID]])) -> x | H2551: =IF(tab_SATLISTE[[#This Row],[SAT-ID]]="","",IF(MID(tab_SATLISTE[[#This Row],[SAT-ID]],2,1)="x","Freistaat Bayern",INDEX(bezirke,LEFT(tab_SATLISTE[[#This Row],[SAT-ID]],1))& " - "& IF(MID(tab_SATLISTE[[#This Row],[SAT-ID]],2,1)="k","kommunal","privat"))) -> Freistaat Bayern
G2552: =IF(MID(tab_SATLISTE[[#This Row],[SAT-ID]],2,1)="x","x",LEFT(tab_SATLISTE[[#This Row],[SAT-ID]])) | H2552: =IF(tab_SATLISTE[[#This Row],[SAT-ID]]="","",IF(MID(tab_SATLISTE[[#This Row],[SAT-ID]],2,1)="x","Freistaat Bayern",INDEX(bezirke,LEFT(tab_SATLISTE[[#This Row],[SAT-ID]],1))& " - "& IF(MID(tab_SATLISTE[[#This Row],[SAT-ID]],2,1)="k","kommunal","privat")))
G2553: =IF(MID(tab_SATLISTE[[#This Row],[SAT-ID]],2,1)="x","x",LEFT(tab_SATLISTE[[#This Row],[SAT-ID]])) | H2553: =IF(tab_SATLISTE[[#This Row],[SAT-ID]]="","",IF(MID(tab_SATLISTE[[#This Row],[SAT-ID]],2,1)="x","Freistaat Bayern",INDEX(bezirke,LEFT(tab_SATLISTE[[#This Row],[SAT-ID]],1))& " - "& IF(MID(tab_SATLISTE[[#This Row],[SAT-ID]],2,1)="k","kommunal","privat")))
G2554: =IF(MID(tab_SATLISTE[[#This Row],[SAT-ID]],2,1)="x","x",LEFT(tab_SATLISTE[[#This Row],[SAT-ID]])) | H2554: =IF(tab_SATLISTE[[#This Row],[SAT-ID]]="","",IF(MID(tab_SATLISTE[[#This Row],[SAT-ID]],2,1)="x","Freistaat Bayern",INDEX(bezirke,LEFT(tab_SATLISTE[[#This Row],[SAT-ID]],1))& " - "& IF(MID(tab_SATLISTE[[#This Row],[SAT-ID]],2,1)="k","kommunal","privat")))
G2555: =IF(MID(tab_SATLISTE[[#This Row],[SAT-ID]],2,1)="x","x",LEFT(tab_SATLISTE[[#This Row],[SAT-ID]])) | H2555: =IF(tab_SATLISTE[[#This Row],[SAT-ID]]="","",IF(MID(tab_SATLISTE[[#This Row],[SAT-ID]],2,1)="x","Freistaat Bayern",INDEX(bezirke,LEFT(tab_SATLISTE[[#This Row],[SAT-ID]],1))& " - "& IF(MID(tab_SATLISTE[[#This Row],[SAT-ID]],2,1)="k","kommunal","privat")))
G2556: =IF(MID(tab_SATLISTE[[#This Row],[SAT-ID]],2,1)="x","x",LEFT(tab_SATLISTE[[#This Row],[SAT-ID]])) | H2556: =IF(tab_SATLISTE[[#This Row],[SAT-ID]]="","",IF(MID(tab_SATLISTE[[#This Row],[SAT-ID]],2,1)="x","Freistaat Bayern",INDEX(bezirke,LEFT(tab_SATLISTE[[#This Row],[SAT-ID]],1))& " - "& IF(MID(tab_SATLISTE[[#This Row],[SAT-ID]],2,1)="k","kommunal","privat")))
G2557: =IF(MID(tab_SATLISTE[[#This Row],[SAT-ID]],2,1)="x","x",LEFT(tab_SATLISTE[[#This Row],[SAT-ID]])) | H2557: =IF(tab_SATLISTE[[#This Row],[SAT-ID]]="","",IF(MID(tab_SATLISTE[[#This Row],[SAT-ID]],2,1)="x","Freistaat Bayern",INDEX(bezirke,LEFT(tab_SATLISTE[[#This Row],[SAT-ID]],1))& " - "& IF(MID(tab_SATLISTE[[#This Row],[SAT-ID]],2,1)="k","kommunal","privat")))
G2558: =IF(MID(tab_SATLISTE[[#This Row],[SAT-ID]],2,1)="x","x",LEFT(tab_SATLISTE[[#This Row],[SAT-ID]])) | H2558: =IF(tab_SATLISTE[[#This Row],[SAT-ID]]="","",IF(MID(tab_SATLISTE[[#This Row],[SAT-ID]],2,1)="x","Freistaat Bayern",INDEX(bezirke,LEFT(tab_SATLISTE[[#This Row],[SAT-ID]],1))& " - "& IF(MID(tab_SATLISTE[[#This Row],[SAT-ID]],2,1)="k","kommunal","privat")))
G2559: =IF(MID(tab_SATLISTE[[#This Row],[SAT-ID]],2,1)="x","x",LEFT(tab_SATLISTE[[#This Row],[SAT-ID]])) | H2559: =IF(tab_SATLISTE[[#This Row],[SAT-ID]]="","",IF(MID(tab_SATLISTE[[#This Row],[SAT-ID]],2,1)="x","Freistaat Bayern",INDEX(bezirke,LEFT(tab_SATLISTE[[#This Row],[SAT-ID]],1))& " - "& IF(MID(tab_SATLISTE[[#This Row],[SAT-ID]],2,1)="k","kommunal","privat")))
G2560: =IF(MID(tab_SATLISTE[[#This Row],[SAT-ID]],2,1)="x","x",LEFT(tab_SATLISTE[[#This Row],[SAT-ID]])) | H2560: =IF(tab_SATLISTE[[#This Row],[SAT-ID]]="","",IF(MID(tab_SATLISTE[[#This Row],[SAT-ID]],2,1)="x","Freistaat Bayern",INDEX(bezirke,LEFT(tab_SATLISTE[[#This Row],[SAT-ID]],1))& " - "& IF(MID(tab_SATLISTE[[#This Row],[SAT-ID]],2,1)="k","kommunal","privat")))
G2561: =IF(MID(tab_SATLISTE[[#This Row],[SAT-ID]],2,1)="x","x",LEFT(tab_SATLISTE[[#This Row],[SAT-ID]])) | H2561: =IF(tab_SATLISTE[[#This Row],[SAT-ID]]="","",IF(MID(tab_SATLISTE[[#This Row],[SAT-ID]],2,1)="x","Freistaat Bayern",INDEX(bezirke,LEFT(tab_SATLISTE[[#This Row],[SAT-ID]],1))& " - "& IF(MID(tab_SATLISTE[[#This Row],[SAT-ID]],2,1)="k","kommunal","privat")))
G2562: =IF(MID(tab_SATLISTE[[#This Row],[SAT-ID]],2,1)="x","x",LEFT(tab_SATLISTE[[#This Row],[SAT-ID]])) | H2562: =IF(tab_SATLISTE[[#This Row],[SAT-ID]]="","",IF(MID(tab_SATLISTE[[#This Row],[SAT-ID]],2,1)="x","Freistaat Bayern",INDEX(bezirke,LEFT(tab_SATLISTE[[#This Row],[SAT-ID]],1))& " - "& IF(MID(tab_SATLISTE[[#This Row],[SAT-ID]],2,1)="k","kommunal","privat")))

Sheet STATISTIK
A1: Wird automatisch ausgefüllt (nicht veränderbar)
A6: RICHTLINIE Sonderbudget Lehrerdienstgeräte | B6: Gerätezahl | C6: =IFERROR(VLOOKUP(Antrag_SoLD_2_0!$F$9,tab_SATLISTE[],3,FALSE),"")
B7: Sonderbudget Lehrerdienstgeräte | C7: =IFERROR(VLOOKUP(Antrag_SoLD_2_0!$F$9,tab_SATLISTE[],4,FALSE),"")
B8: … darunter Verwaltungskostenpauschale | C8: =IFERROR(VLOOKUP(Antrag_SoLD_2_0!$F$9,tab_SATLISTE[],5,FALSE),"")
B9: Antragsgrenze | C9: =IFERROR(VLOOKUP(Antrag_SoLD_2_0!$F$9,tab_SATLISTE[],6,FALSE),"")
A10: ANTRAG | B10: Beantragte Geräte (Erstbewilligung) | C10: =Antrag_SoLD_2_0!H42
B11: Beantragte staatliche Leistung (Erstbewilligung) | C11: =Antrag_SoLD_2_0!H40
B12: Beantragte Geräte (Nachbewilligungsrunden) | C12: =IF(Antrag_SoLD_2_0!H46>0,Antrag_SoLD_2_0!H46,"Keine Teilnahme")
B13: Beantragte staatliche Leistung (Nachbewilligungsrunden) | C13: =Antrag_SoLD_2_0!H44 -> 0
B14: Elektronische Übermittlung? | C14: FALSE
A15: ERST- BEWILLIGUNG | B15: Bewilligte Geräte | C15: =C10 | D15: (ggf. überschreiben)
B16: Bewilligte Zuwendung | C16: =C11 | D16: (ggf. überschreiben)
B17: Auszahlung mit Erstbewilligung | C17: =IFERROR(IF(AND(C147=TRUE,C148=TRUE),C16,0),"") -> 0
A18: ERSTE NACH- BEWILLIGUNG | B18: Zusätzlich bewilligte Geräte
B19: Zusätzlich bewilligte staatliche Leistung | C19: =IF(C18>0,C18*1000,0) -> 0
B20: Auszahlung mit Nachbewilligung | C20: =IF(C19>0,IF(AND(C147=TRUE,C148=TRUE),C19,0),0) -> 0
A21: ZWEITE NACH- BEWILLIGUNG | B21: Zusätzlich bewilligte Geräte
B22: Zusätzlich bewilligte staatliche Leistung | C22: =IF(C21>0,C21*1000,0) -> 0
B23: Auszahlung mit Nachbewilligung | C23: =IF(C22>0,IF(AND(C147=TRUE,C148=TRUE),C22,0),0) -> 0
A24: GESAMT-BEWILLIGUNG | B24: Insgesamt bewilligte Geräte | C24: =SUM(C15,C18,C21) -> 0
B25: Insgesamt bewilligte staatliche Leistung | C25: =SUM(C16,C19,C22) -> 0
B26: Auszahlung gesamt bisher | C26: =SUM(C17,C20,C23) -> 0 | D26: Abrechnungsdatum
A27: ABRECHNUNG | B27: =CONCATENATE("Zwischen 23.07.2020 und ",DAY(Abrechnungsdatum),".",MONTH(Abrechnungsdatum),".",YEAR(Abrechnungsdatum)," beauftragte Lehrerdienstgeräte …") -> Zwischen 23.07.2020 und 31.12.2021 beauftragte Lehrerdienstgeräte … | C27: =SUMIFS(MD_Anzahl,MD_Gegenstand,$B$91,MD_Auftragsdatum,">22.07.2020",MD_Auftragsdatum,"<="&Abrechnungsdatum)+SUMIFS(MD_Anzahl,MD_Gegenstand,$B$92,MD_Auftragsdatum,">22.07.2020",MD_Auftragsdatum,"<="&Abrechnungsdatum) -> #REF! | D27: 44561
B28: … lt. Verträgen ingesamt entstehende berücksichtigungsfähige Kosten | C28: =SUMIFS(MD_Auftragswert,MD_Auftragsdatum,">22.07.2020",MD_Auftragsdatum,"<="&Abrechnungsdatum) -> #REF!
A29: MASSNAHMEN-DURCHFÜHRUNG | B29: Insgesamt bei Maßnahmendurchführung entstandene Kosten | C29: =SUM(MD_Ausgaben_ges) -> #REF!
B30: … davon laut Antragsteller grundsätzlich berücksichtigungsfähig | C30: =SUM(MD_Ausgaben_zuw) -> #REF!
A31: VERWENDUNGS-NACHWEIS-PRÜFUNG | B31: Berücksichtigungsfähige Geräteeinheiten nach Prüfung | C31: =SUM(A100,A101) -> #REF! | D31: Prüfung bestätigt?
B32: … damit maximal auszahlbare staatliche Leistung | C32: =MIN(C31,C24)*1000 -> #REF! | D32: =IF(#REF!="durchgeführt","ja","nein") -> #REF!
B33: … darunter maximal auszahlbare Verwaltungskostenpauschale | C33: =IFERROR(IF(D34="x",0,C32/4),"") | D33: Trägerart
B34: Nach Prüfung berücksichtigungsfähige investive Kosten | C34: =IF($D$32="ja",SUM(PR_Ausgaben),0) -> #REF! | D34: =MID(Antrag_SoLD_2_0!F9,2,1)
B35: Tatsächlich auszahlbare staatliche Leistung insgesamt | C35: =MIN(C32,C25,SUM(C34,C37)) -> #REF!
B36: … dadurch auszahlbarer investiver Anteil | C36: =C35-C37 -> #REF! | D36: =IFERROR(C36/C35,"")
B37: … dadurch auszahlbare Verwaltungskostenpauschale | C37: =MIN(C33,MAX(0,C32-C34)) -> #REF! | D37: =IFERROR(C37/C35,"")
B38: … damit berücksichtigungsfähige Eigenmittel des Schulaufwandsträgers | C38: =IFERROR(MAX(0,C34-SUM(C26,C39)),"FEHLER") -> FEHLER
B39: Schlussrate / Rückzahlung | C39: =MIN(C35,C25)-C26 -> #REF!
A43: RBZ | B43: Regierungsbezirk
A44: 1 | B44: Oberbayern
A45: 2 | B45: Niederbayern
A46: 3 | B46: Oberpfalz
A47: 4 | B47: Oberfranken
...
