Workbook
Name Anlage_dBIR: Anlage_dBIR!$B$1:$D$2554
Name ANT_datum: Antrag!$D$103
Name ANT_unterschrift: Antrag!$F$103
Name erg_budgets: Antragsteller!$H$5
Name ID_antrag: Antrag!$F$9
Name Kontrollkästchen10: Antrag!#REF!
Name Kontrollkästchen7: Antrag!$K$9
Name md_zupruefen: Maßnahmendurchführung!$S$1
Name mdm: [1]Maßnahmenplanung!#REF!
Name mdm: Maßnahmendurchführung!#REF!
Name mdm: MUSTERBEFÜLLUNG!#REF!
Name mdm: [2]Maßnahmenplanung!#REF!
Name mdm: Maßnahmenplanung!#REF!
Name mp_zupruefen: Maßnahmenplanung!$M$1
Name Rechnungsdatum_max: Diverses!$G$18
Name Rechnungsdatum_min: Diverses!$G$16
Name SAT_anz: Antragsteller!$I$6
Name SCH_anz: Antragsteller!$A$2
Name schulen: [1]SCHULEN!#REF!
Name schulen: [2]SCHULEN!#REF!
Name schulen_allgbild: [1]SCHULEN!#REF!
Name schulen_allgbild: [2]SCHULEN!#REF!
Name SCHULLISTE: SCHULLISTE!$A$1:$U$6317
Name schulzahl: [1]SCHULEN!#REF!
Name schulzahl: [2]SCHULEN!#REF!
Name schulzahl_allgbild: [1]SCHULEN!#REF!
Name schulzahl_allgbild: [2]SCHULEN!#REF!
Name server: [1]Maßnahmenplanung!#REF!
Name server: Maßnahmendurchführung!#REF!
Name server: [2]Maßnahmenplanung!#REF!
Name SuS_anz: Antragsteller!$A$3
Name teil1_aus: ABRECHNUNG!$C$26
Name teil2_aus: ABRECHNUNG!$C$27
Name teil3_aus: ABRECHNUNG!$C$28
Name Text26: Antrag!$K$10
Name Text3: Antrag!$D$27
Name Text5: Antrag!$D$71
Name zahl_antragsteller: Diverses!$G$12
Name zahl_massnahmen: Diverses!$G$13
Name zuw_bew_1: ABRECHNUNG!$C$20
Name zuw_bew_2: ABRECHNUNG!$C$21
Name zuw_bew_3: ABRECHNUNG!$C$22
Name zuw_bew_4: ABRECHNUNG!$C$23
Name zuw_nach: ABRECHNUNG!$C$25

Sheet Maßnahmendurchführung
A1: =Maßnahmenplanung!A1 -> 10 | B1: Fördergegenstand gem. dBIR Nr. 2 | C1: Spezifizierung der Maßnahme | D1: ggf. weitere Spezifizierung der Maßnahme | E1: Ort der Maßnahmen-umsetzung | F1: pädagogisch-technischer Einsatzzweck: konkrete Beschreibung der Nutzung durch die Schulen für unterrichtsbezogene Zwecke | G1: geprüfte zuwendungs-fähige Gesamt-kosten laut Planung | H1: Auftragsdatum (bei Rahmen-verträgen Tag des Abrufs) | I1: Rechnungs- datum (bei mehreren Rechnungen spätestes Datum) | J1: Bisherige Gesamtkosten (geleistete Zahlungen) | K1: … davon zuwendungs-fähige bisherige Gesamtkosten | L1: zukünftig anfallende Miet-/ Leasing-/ Lizenzausgaben | M1: … davon zuwendungs-fähige zukünftig anfallende Ausgaben | N1: Dem Grunde nach zuwendungs-fähig? | O1: zuwendungs- fähige Gesamtkosten (ohne Beachtung von Höchstbeträgen) | P1: … davon bereits angefallen | Q1: … davon zukünftig anfallend | R1: Begründung bei Minderung oder Streichung | S1: =COUNTIFS(tab_MD[md_prf],"=FALSCH") -> 0 | T1: Zur Weiterverarbeitung…
A2: md_nr | B2: md_gegenstand | C2: md_kategorie | D2: md_subkategorie | E2: md_ort | F2: md_beschreibung | G2: md_bew | H2: md_auftragsdatum | I2: md_rechnungsdatum | J2: md_kosten_bisher | K2: md_zuwf_bisher | L2: md_kosten_zukunft | M2: md_zuwf_zukunft | N2: md_prf_erg | O2: md_prf_ges | P2: md_prf_bisher | Q2: md_prf_zukunft | R2: md_prf_begr | S2: md_prf | T2: umgesetzt
A3: =ROW()-2 -> 1 | B3: =IFERROR(IF(tab_MP[[#This Row],[mp_gegenstand]]<>"",tab_MP[[#This Row],[mp_gegenstand]],""),"") | C3: =IFERROR(IF(tab_MP[[#This Row],[mp_kategorie]]<>"",tab_MP[[#This Row],[mp_kategorie]],""),"") | D3: =IFERROR(IF(tab_MP[[#This Row],[mp_subkategorie]]<>"",tab_MP[[#This Row],[mp_subkategorie]],""),"") | E3: =IFERROR(IF(tab_MP[[#This Row],[mp_ort]]<>"",tab_MP[[#This Row],[mp_ort]],""),"") | F3: =IFERROR(IF(tab_MP[[#This Row],[mp_beschreibung]]<>"",tab_MP[[#This Row],[mp_beschreibung]],""),"") | G3: =IFERROR(IF(tab_MP[[#This Row],[prf_mp_ges]]<>"",tab_MP[[#This Row],[prf_mp_ges]],""),"") | O3: =IF(AND(tab_MD[[#This Row],[md_prf_erg]]<>"",tab_MD[[#This Row],[md_prf_bisher]]>=0,tab_MD[[#This Row],[md_prf_zukunft]]>=0),tab_MD[[#This Row],[md_prf_bisher]]+tab_MD[[#This Row],[md_prf_zukunft]],"") | P3: =IF(tab_MD[[#This Row],[md_prf_erg]]="ja",tab_MD[[#This Row],[md_zuwf_bisher]],IF(tab_MD[[#This Row],[md_prf_erg]]="nein",0,IF(tab_MD[[#This Row],[md_prf_erg]]="teilweise",-1,""))) | Q3: =IF(tab_MD[[#This Row],[md_prf_erg]]="ja",tab_MD[[#This Row],[md_zuwf_zukunft]],IF(tab_MD[[#This Row],[md_prf_erg]]="nein",0,IF(tab_MD[[#This Row],[md_prf_erg]]="teilweise",-1,""))) | S3: =AND(OR(AND(tab_MD[[#This Row],[md_zuwf_bisher]]="",tab_MD[[#This Row],[md_zuwf_zukunft]]=""),AND(OR(tab_MD[[#This Row],[md_zuwf_bisher]]<>"",tab_MD[[#This Row],[md_zuwf_zukunft]]<>""),tab_MD[[#This Row],[md_prf_erg]]<>"")),tab_MD[[#This Row],[md_prf_bisher]]<>-1,tab_MD[[#This Row],[md_prf_zukunft]]<>-1) -> TRUE | T3: =IF(tab_MD[[#This Row],[md_gegenstand]]<>"",IF(SUM(tab_MD[[#This Row],[md_kosten_bisher]:[md_zuwf_zukunft]])>0,"ja","nein"),"")
A4: =ROW()-2 -> 2 | B4: =IFERROR(IF(tab_MP[[#This Row],[mp_gegenstand]]<>"",tab_MP[[#This Row],[mp_gegenstand]],""),"") | C4: =IFERROR(IF(tab_MP[[#This Row],[mp_kategorie]]<>"",tab_MP[[#This Row],[mp_kategorie]],""),"") | D4: =IFERROR(IF(tab_MP[[#This Row],[mp_subkategorie]]<>"",tab_MP[[#This Row],[mp_subkategorie]],""),"") | E4: =IFERROR(IF(tab_MP[[#This Row],[mp_ort]]<>"",tab_MP[[#This Row],[mp_ort]],""),"") | F4: =IFERROR(IF(tab_MP[[#This Row],[mp_beschreibung]]<>"",tab_MP[[#This Row],[mp_beschreibung]],""),"") | G4: =IFERROR(IF(tab_MP[[#This Row],[prf_mp_ges]]<>"",tab_MP[[#This Row],[prf_mp_ges]],""),"") | O4: =IF(AND(tab_MD[[#This Row],[md_prf_erg]]<>"",tab_MD[[#This Row],[md_prf_bisher]]>=0,tab_MD[[#This Row],[md_prf_zukunft]]>=0),tab_MD[[#This Row],[md_prf_bisher]]+tab_MD[[#This Row],[md_prf_zukunft]],"") | P4: =IF(tab_MD[[#This Row],[md_prf_erg]]="ja",tab_MD[[#This Row],[md_zuwf_bisher]],IF(tab_MD[[#This Row],[md_prf_erg]]="nein",0,IF(tab_MD[[#This Row],[md_prf_erg]]="teilweise",-1,""))) | Q4: =IF(tab_MD[[#This Row],[md_prf_erg]]="ja",tab_MD[[#This Row],[md_zuwf_zukunft]],IF(tab_MD[[#This Row],[md_prf_erg]]="nein",0,IF(tab_MD[[#This Row],[md_prf_erg]]="teilweise",-1,""))) | S4: =AND(OR(AND(tab_MD[[#This Row],[md_zuwf_bisher]]="",tab_MD[[#This Row],[md_zuwf_zukunft]]=""),AND(OR(tab_MD[[#This Row],[md_zuwf_bisher]]<>"",tab_MD[[#This Row],[md_zuwf_zukunft]]<>""),tab_MD[[#This Row],[md_prf_erg]]<>"")),tab_MD[[#This Row],[md_prf_bisher]]<>-1,tab_MD[[#This Row],[md_prf_zukunft]]<>-1) -> TRUE | T4: =IF(tab_MD[[#This Row],[md_gegenstand]]<>"",IF(SUM(tab_MD[[#This Row],[md_kosten_bisher]:[md_zuwf_zukunft]])>0,"ja","nein"),"")
A5: =ROW()-2 -> 3 | B5: =IFERROR(IF(tab_MP[[#This Row],[mp_gegenstand]]<>"",tab_MP[[#This Row],[mp_gegenstand]],""),"") | C5: =IFERROR(IF(tab_MP[[#This Row],[mp_kategorie]]<>"",tab_MP[[#This Row],[mp_kategorie]],""),"") | D5: =IFERROR(IF(tab_MP[[#This Row],[mp_subkategorie]]<>"",tab_MP[[#This Row],[mp_subkategorie]],""),"") | E5: =IFERROR(IF(tab_MP[[#This Row],[mp_ort]]<>"",tab_MP[[#This Row],[mp_ort]],""),"") | F5: =IFERROR(IF(tab_MP[[#This Row],[mp_beschreibung]]<>"",tab_MP[[#This Row],[mp_beschreibung]],""),"") | G5: =IFERROR(IF(tab_MP[[#This Row],[prf_mp_ges]]<>"",tab_MP[[#This Row],[prf_mp_ges]],""),"") | O5: =IF(AND(tab_MD[[#This Row],[md_prf_erg]]<>"",tab_MD[[#This Row],[md_prf_bisher]]>=0,tab_MD[[#This Row],[md_prf_zukunft]]>=0),tab_MD[[#This Row],[md_prf_bisher]]+tab_MD[[#This Row],[md_prf_zukunft]],"") | P5: =IF(tab_MD[[#This Row],[md_prf_erg]]="ja",tab_MD[[#This Row],[md_zuwf_bisher]],IF(tab_MD[[#This Row],[md_prf_erg]]="nein",0,IF(tab_MD[[#This Row],[md_prf_erg]]="teilweise",-1,""))) | Q5: =IF(tab_MD[[#This Row],[md_prf_erg]]="ja",tab_MD[[#This Row],[md_zuwf_zukunft]],IF(tab_MD[[#This Row],[md_prf_erg]]="nein",0,IF(tab_MD[[#This Row],[md_prf_erg]]="teilweise",-1,""))) | S5: =AND(OR(AND(tab_MD[[#This Row],[md_zuwf_bisher]]="",tab_MD[[#This Row],[md_zuwf_zukunft]]=""),AND(OR(tab_MD[[#This Row],[md_zuwf_bisher]]<>"",tab_MD[[#This Row],[md_zuwf_zukunft]]<>""),tab_MD[[#This Row],[md_prf_erg]]<>"")),tab_MD[[#This Row],[md_prf_bisher]]<>-1,tab_MD[[#This Row],[md_prf_zukunft]]<>-1) -> TRUE | T5: =IF(tab_MD[[#This Row],[md_gegenstand]]<>"",IF(SUM(tab_MD[[#This Row],[md_kosten_bisher]:[md_zuwf_zukunft]])>0,"ja","nein"),"")
A6: =ROW()-2 -> 4 | B6: =IFERROR(IF(tab_MP[[#This Row],[mp_gegenstand]]<>"",tab_MP[[#This Row],[mp_gegenstand]],""),"") | C6: =IFERROR(IF(tab_MP[[#This Row],[mp_kategorie]]<>"",tab_MP[[#This Row],[mp_kategorie]],""),"") | D6: =IFERROR(IF(tab_MP[[#This Row],[mp_subkategorie]]<>"",tab_MP[[#This Row],[mp_subkategorie]],""),"") | E6: =IFERROR(IF(tab_MP[[#This Row],[mp_ort]]<>"",tab_MP[[#This Row],[mp_ort]],""),"") | F6: =IFERROR(IF(tab_MP[[#This Row],[mp_beschreibung]]<>"",tab_MP[[#This Row],[mp_beschreibung]],""),"") | G6: =IFERROR(IF(tab_MP[[#This Row],[prf_mp_ges]]<>"",tab_MP[[#This Row],[prf_mp_ges]],""),"") | O6: =IF(AND(tab_MD[[#This Row],[md_prf_erg]]<>"",tab_MD[[#This Row],[md_prf_bisher]]>=0,tab_MD[[#This Row],[md_prf_zukunft]]>=0),tab_MD[[#This Row],[md_prf_bisher]]+tab_MD[[#This Row],[md_prf_zukunft]],"") | P6: =IF(tab_MD[[#This Row],[md_prf_erg]]="ja",tab_MD[[#This Row],[md_zuwf_bisher]],IF(tab_MD[[#This Row],[md_prf_erg]]="nein",0,IF(tab_MD[[#This Row],[md_prf_erg]]="teilweise",-1,""))) | Q6: =IF(tab_MD[[#This Row],[md_prf_erg]]="ja",tab_MD[[#This Row],[md_zuwf_zukunft]],IF(tab_MD[[#This Row],[md_prf_erg]]="nein",0,IF(tab_MD[[#This Row],[md_prf_erg]]="teilweise",-1,""))) | S6: =AND(OR(AND(tab_MD[[#This Row],[md_zuwf_bisher]]="",tab_MD[[#This Row],[md_zuwf_zukunft]]=""),AND(OR(tab_MD[[#This Row],[md_zuwf_bisher]]<>"",tab_MD[[#This Row],[md_zuwf_zukunft]]<>""),tab_MD[[#This Row],[md_prf_erg]]<>"")),tab_MD[[#This Row],[md_prf_bisher]]<>-1,tab_MD[[#This Row],[md_prf_zukunft]]<>-1) -> TRUE | T6: =IF(tab_MD[[#This Row],[md_gegenstand]]<>"",IF(SUM(tab_MD[[#This Row],[md_kosten_bisher]:[md_zuwf_zukunft]])>0,"ja","nein"),"")
A7: =ROW()-2 -> 5 | B7: =IFERROR(IF(tab_MP[[#This Row],[mp_gegenstand]]<>"",tab_MP[[#This Row],[mp_gegenstand]],""),"") | C7: =IFERROR(IF(tab_MP[[#This Row],[mp_kategorie]]<>"",tab_MP[[#This Row],[mp_kategorie]],""),"") | D7: =IFERROR(IF(tab_MP[[#This Row],[mp_subkategorie]]<>"",tab_MP[[#This Row],[mp_subkategorie]],""),"") | E7: =IFERROR(IF(tab_MP[[#This Row],[mp_ort]]<>"",tab_MP[[#This Row],[mp_ort]],""),"") | F7: =IFERROR(IF(tab_MP[[#This Row],[mp_beschreibung]]<>"",tab_MP[[#This Row],[mp_beschreibung]],""),"") | G7: =IFERROR(IF(tab_MP[[#This Row],[prf_mp_ges]]<>"",tab_MP[[#This Row],[prf_mp_ges]],""),"") | O7: =IF(AND(tab_MD[[#This Row],[md_prf_erg]]<>"",tab_MD[[#This Row],[md_prf_bisher]]>=0,tab_MD[[#This Row],[md_prf_zukunft]]>=0),tab_MD[[#This Row],[md_prf_bisher]]+tab_MD[[#This Row],[md_prf_zukunft]],"") | P7: =IF(tab_MD[[#This Row],[md_prf_erg]]="ja",tab_MD[[#This Row],[md_zuwf_bisher]],IF(tab_MD[[#This Row],[md_prf_erg]]="nein",0,IF(tab_MD[[#This Row],[md_prf_erg]]="teilweise",-1,""))) | Q7: =IF(tab_MD[[#This Row],[md_prf_erg]]="ja",tab_MD[[#This Row],[md_zuwf_zukunft]],IF(tab_MD[[#This Row],[md_prf_erg]]="nein",0,IF(tab_MD[[#This Row],[md_prf_erg]]="teilweise",-1,""))) | S7: =AND(OR(AND(tab_MD[[#This Row],[md_zuwf_bisher]]="",tab_MD[[#This Row],[md_zuwf_zukunft]]=""),AND(OR(tab_MD[[#This Row],[md_zuwf_bisher]]<>"",tab_MD[[#This Row],[md_zuwf_zukunft]]<>""),tab_MD[[#This Row],[md_prf_erg]]<>"")),tab_MD[[#This Row],[md_prf_bisher]]<>-1,tab_MD[[#This Row],[md_prf_zukunft]]<>-1) -> TRUE | T7: =IF(tab_MD[[#This Row],[md_gegenstand]]<>"",IF(SUM(tab_MD[[#This Row],[md_kosten_bisher]:[md_zuwf_zukunft]])>0,"ja","nein"),"")
A8: =ROW()-2 -> 6 | B8: =IFERROR(IF(tab_MP[[#This Row],[mp_gegenstand]]<>"",tab_MP[[#This Row],[mp_gegenstand]],""),"") | C8: =IFERROR(IF(tab_MP[[#This Row],[mp_kategorie]]<>"",tab_MP[[#This Row],[mp_kategorie]],""),"") | D8: =IFERROR(IF(tab_MP[[#This Row],[mp_subkategorie]]<>"",tab_MP[[#This Row],[mp_subkategorie]],""),"") | E8: =IFERROR(IF(tab_MP[[#This Row],[mp_ort]]<>"",tab_MP[[#This Row],[mp_ort]],""),"") | F8: =IFERROR(IF(tab_MP[[#This Row],[mp_beschreibung]]<>"",tab_MP[[#This Row],[mp_beschreibung]],""),"") | G8: =IFERROR(IF(tab_MP[[#This Row],[prf_mp_ges]]<>"",tab_MP[[#This Row],[prf_mp_ges]],""),"") | O8: =IF(AND(tab_MD[[#This Row],[md_prf_erg]]<>"",tab_MD[[#This Row],[md_prf_bisher]]>=0,tab_MD[[#This Row],[md_prf_zukunft]]>=0),tab_MD[[#This Row],[md_prf_bisher]]+tab_MD[[#This Row],[md_prf_zukunft]],"") | P8: =IF(tab_MD[[#This Row],[md_prf_erg]]="ja",tab_MD[[#This Row],[md_zuwf_bisher]],IF(tab_MD[[#This Row],[md_prf_erg]]="nein",0,IF(tab_MD[[#This Row],[md_prf_erg]]="teilweise",-1,""))) | Q8: =IF(tab_MD[[#This Row],[md_prf_erg]]="ja",tab_MD[[#This Row],[md_zuwf_zukunft]],IF(tab_MD[[#This Row],[md_prf_erg]]="nein",0,IF(tab_MD[[#This Row],[md_prf_erg]]="teilweise",-1,""))) | S8: =AND(OR(AND(tab_MD[[#This Row],[md_zuwf_bisher]]="",tab_MD[[#This Row],[md_zuwf_zukunft]]=""),AND(OR(tab_MD[[#This Row],[md_zuwf_bisher]]<>"",tab_MD[[#This Row],[md_zuwf_zukunft]]<>""),tab_MD[[#This Row],[md_prf_erg]]<>"")),tab_MD[[#This Row],[md_prf_bisher]]<>-1,tab_MD[[#This Row],[md_prf_zukunft]]<>-1) -> TRUE | T8: =IF(tab_MD[[#This Row],[md_gegenstand]]<>"",IF(SUM(tab_MD[[#This Row],[md_kosten_bisher]:[md_zuwf_zukunft]])>0,"ja","nein"),"")
A9: =ROW()-2 -> 7 | B9: =IFERROR(IF(tab_MP[[#This Row],[mp_gegenstand]]<>"",tab_MP[[#This Row],[mp_gegenstand]],""),"") | C9: =IFERROR(IF(tab_MP[[#This Row],[mp_kategorie]]<>"",tab_MP[[#This Row],[mp_kategorie]],""),"") | D9: =IFERROR(IF(tab_MP[[#This Row],[mp_subkategorie]]<>"",tab_MP[[#This Row],[mp_subkategorie]],""),"") | E9: =IFERROR(IF(tab_MP[[#This Row],[mp_ort]]<>"",tab_MP[[#This Row],[mp_ort]],""),"") | F9: =IFERROR(IF(tab_MP[[#This Row],[mp_beschreibung]]<>"",tab_MP[[#This Row],[mp_beschreibung]],""),"") | G9: =IFERROR(IF(tab_MP[[#This Row],[prf_mp_ges]]<>"",tab_MP[[#This Row],[prf_mp_ges]],""),"") | O9: =IF(AND(tab_MD[[#This Row],[md_prf_erg]]<>"",tab_MD[[#This Row],[md_prf_bisher]]>=0,tab_MD[[#This Row],[md_prf_zukunft]]>=0),tab_MD[[#This Row],[md_prf_bisher]]+tab_MD[[#This Row],[md_prf_zukunft]],"") | P9: =IF(tab_MD[[#This Row],[md_prf_erg]]="ja",tab_MD[[#This Row],[md_zuwf_bisher]],IF(tab_MD[[#This Row],[md_prf_erg]]="nein",0,IF(tab_MD[[#This Row],[md_prf_erg]]="teilweise",-1,""))) | Q9: =IF(tab_MD[[#This Row],[md_prf_erg]]="ja",tab_MD[[#This Row],[md_zuwf_zukunft]],IF(tab_MD[[#This Row],[md_prf_erg]]="nein",0,IF(tab_MD[[#This Row],[md_prf_erg]]="teilweise",-1,""))) | S9: =AND(OR(AND(tab_MD[[#This Row],[md_zuwf_bisher]]="",tab_MD[[#This Row],[md_zuwf_zukunft]]=""),AND(OR(tab_MD[[#This Row],[md_zuwf_bisher]]<>"",tab_MD[[#This Row],[md_zuwf_zukunft]]<>""),tab_MD[[#This Row],[md_prf_erg]]<>"")),tab_MD[[#This Row],[md_prf_bisher]]<>-1,tab_MD[[#This Row],[md_prf_zukunft]]<>-1) -> TRUE | T9: =IF(tab_MD[[#This Row],[md_gegenstand]]<>"",IF(SUM(tab_MD[[#This Row],[md_kosten_bisher]:[md_zuwf_zukunft]])>0,"ja","nein"),"")
A10: =ROW()-2 -> 8 | B10: =IFERROR(IF(tab_MP[[#This Row],[mp_gegenstand]]<>"",tab_MP[[#This Row],[mp_gegenstand]],""),"") | C10: =IFERROR(IF(tab_MP[[#This Row],[mp_kategorie]]<>"",tab_MP[[#This Row],[mp_kategorie]],""),"") | D10: =IFERROR(IF(tab_MP[[#This Row],[mp_subkategorie]]<>"",tab_MP[[#This Row],[mp_subkategorie]],""),"") | E10: =IFERROR(IF(tab_MP[[#This Row],[mp_ort]]<>"",tab_MP[[#This Row],[mp_ort]],""),"") | F10: =IFERROR(IF(tab_MP[[#This Row],[mp_beschreibung]]<>"",tab_MP[[#This Row],[mp_beschreibung]],""),"") | G10: =IFERROR(IF(tab_MP[[#This Row],[prf_mp_ges]]<>"",tab_MP[[#This Row],[prf_mp_ges]],""),"") | O10: =IF(AND(tab_MD[[#This Row],[md_prf_erg]]<>"",tab_MD[[#This Row],[md_prf_bisher]]>=0,tab_MD[[#This Row],[md_prf_zukunft]]>=0),tab_MD[[#This Row],[md_prf_bisher]]+tab_MD[[#This Row],[md_prf_zukunft]],"") | P10: =IF(tab_MD[[#This Row],[md_prf_erg]]="ja",tab_MD[[#This Row],[md_zuwf_bisher]],IF(tab_MD[[#This Row],[md_prf_erg]]="nein",0,IF(tab_MD[[#This Row],[md_prf_erg]]="teilweise",-1,""))) | Q10: =IF(tab_MD[[#This Row],[md_prf_erg]]="ja",tab_MD[[#This Row],[md_zuwf_zukunft]],IF(tab_MD[[#This Row],[md_prf_erg]]="nein",0,IF(tab_MD[[#This Row],[md_prf_erg]]="teilweise",-1,""))) | S10: =AND(OR(AND(tab_MD[[#This Row],[md_zuwf_bisher]]="",tab_MD[[#This Row],[md_zuwf_zukunft]]=""),AND(OR(tab_MD[[#This Row],[md_zuwf_bisher]]<>"",tab_MD[[#This Row],[md_zuwf_zukunft]]<>""),tab_MD[[#This Row],[md_prf_erg]]<>"")),tab_MD[[#This Row],[md_prf_bisher]]<>-1,tab_MD[[#This Row],[md_prf_zukunft]]<>-1) -> TRUE | T10: =IF(tab_MD[[#This Row],[md_gegenstand]]<>"",IF(SUM(tab_MD[[#This Row],[md_kosten_bisher]:[md_zuwf_zukunft]])>0,"ja","nein"),"")
A11: =ROW()-2 -> 9 | B11: =IFERROR(IF(tab_MP[[#This Row],[mp_gegenstand]]<>"",tab_MP[[#This Row],[mp_gegenstand]],""),"") | C11: =IFERROR(IF(tab_MP[[#This Row],[mp_kategorie]]<>"",tab_MP[[#This Row],[mp_kategorie]],""),"") | D11: =IFERROR(IF(tab_MP[[#This Row],[mp_subkategorie]]<>"",tab_MP[[#This Row],[mp_subkategorie]],""),"") | E11: =IFERROR(IF(tab_MP[[#This Row],[mp_ort]]<>"",tab_MP[[#This Row],[mp_ort]],""),"") | F11: =IFERROR(IF(tab_MP[[#This Row],[mp_beschreibung]]<>"",tab_MP[[#This Row],[mp_beschreibung]],""),"") | G11: =IFERROR(IF(tab_MP[[#This Row],[prf_mp_ges]]<>"",tab_MP[[#This Row],[prf_mp_ges]],""),"") | O11: =IF(AND(tab_MD[[#This Row],[md_prf_erg]]<>"",tab_MD[[#This Row],[md_prf_bisher]]>=0,tab_MD[[#This Row],[md_prf_zukunft]]>=0),tab_MD[[#This Row],[md_prf_bisher]]+tab_MD[[#This Row],[md_prf_zukunft]],"") | P11: =IF(tab_MD[[#This Row],[md_prf_erg]]="ja",tab_MD[[#This Row],[md_zuwf_bisher]],IF(tab_MD[[#This Row],[md_prf_erg]]="nein",0,IF(tab_MD[[#This Row],[md_prf_erg]]="teilweise",-1,""))) | Q11: =IF(tab_MD[[#This Row],[md_prf_erg]]="ja",tab_MD[[#This Row],[md_zuwf_zukunft]],IF(tab_MD[[#This Row],[md_prf_erg]]="nein",0,IF(tab_MD[[#This Row],[md_prf_erg]]="teilweise",-1,""))) | S11: =AND(OR(AND(tab_MD[[#This Row],[md_zuwf_bisher]]="",tab_MD[[#This Row],[md_zuwf_zukunft]]=""),AND(OR(tab_MD[[#This Row],[md_zuwf_bisher]]<>"",tab_MD[[#This Row],[md_zuwf_zukunft]]<>""),tab_MD[[#This Row],[md_prf_erg]]<>"")),tab_MD[[#This Row],[md_prf_bisher]]<>-1,tab_MD[[#This Row],[md_prf_zukunft]]<>-1) -> TRUE | T11: =IF(tab_MD[[#This Row],[md_gegenstand]]<>"",IF(SUM(tab_MD[[#This Row],[md_kosten_bisher]:[md_zuwf_zukunft]])>0,"ja","nein"),"")
A12: =ROW()-2 -> 10 | B12: =IFERROR(IF(tab_MP[[#This Row],[mp_gegenstand]]<>"",tab_MP[[#This Row],[mp_gegenstand]],""),"") | C12: =IFERROR(IF(tab_MP[[#This Row],[mp_kategorie]]<>"",tab_MP[[#This Row],[mp_kategorie]],""),"") | D12: =IFERROR(IF(tab_MP[[#This Row],[mp_subkategorie]]<>"",tab_MP[[#This Row],[mp_subkategorie]],""),"") | E12: =IFERROR(IF(tab_MP[[#This Row],[mp_ort]]<>"",tab_MP[[#This Row],[mp_ort]],""),"") | F12: =IFERROR(IF(tab_MP[[#This Row],[mp_beschreibung]]<>"",tab_MP[[#This Row],[mp_beschreibung]],""),"") | G12: =IFERROR(IF(tab_MP[[#This Row],[prf_mp_ges]]<>"",tab_MP[[#This Row],[prf_mp_ges]],""),"") | O12: =IF(AND(tab_MD[[#This Row],[md_prf_erg]]<>"",tab_MD[[#This Row],[md_prf_bisher]]>=0,tab_MD[[#This Row],[md_prf_zukunft]]>=0),tab_MD[[#This Row],[md_prf_bisher]]+tab_MD[[#This Row],[md_prf_zukunft]],"") | P12: =IF(tab_MD[[#This Row],[md_prf_erg]]="ja",tab_MD[[#This Row],[md_zuwf_bisher]],IF(tab_MD[[#This Row],[md_prf_erg]]="nein",0,IF(tab_MD[[#This Row],[md_prf_erg]]="teilweise",-1,""))) | Q12: =IF(tab_MD[[#This Row],[md_prf_erg]]="ja",tab_MD[[#This Row],[md_zuwf_zukunft]],IF(tab_MD[[#This Row],[md_prf_erg]]="nein",0,IF(tab_MD[[#This Row],[md_prf_erg]]="teilweise",-1,""))) | S12: =AND(OR(AND(tab_MD[[#This Row],[md_zuwf_bisher]]="",tab_MD[[#This Row],[md_zuwf_zukunft]]=""),AND(OR(tab_MD[[#This Row],[md_zuwf_bisher]]<>"",tab_MD[[#This Row],[md_zuwf_zukunft]]<>""),tab_MD[[#This Row],[md_prf_erg]]<>"")),tab_MD[[#This Row],[md_prf_bisher]]<>-1,tab_MD[[#This Row],[md_prf_zukunft]]<>-1) -> TRUE | T12: =IF(tab_MD[[#This Row],[md_gegenstand]]<>"",IF(SUM(tab_MD[[#This Row],[md_kosten_bisher]:[md_zuwf_zukunft]])>0,"ja","nein"),"")
A13: =ROW()-2 -> 11 | B13: =IFERROR(IF(tab_MP[[#This Row],[mp_gegenstand]]<>"",tab_MP[[#This Row],[mp_gegenstand]],""),"") | C13: =IFERROR(IF(tab_MP[[#This Row],[mp_kategorie]]<>"",tab_MP[[#This Row],[mp_kategorie]],""),"") | D13: =IFERROR(IF(tab_MP[[#This Row],[mp_subkategorie]]<>"",tab_MP[[#This Row],[mp_subkategorie]],""),"") | E13: =IFERROR(IF(tab_MP[[#This Row],[mp_ort]]<>"",tab_MP[[#This Row],[mp_ort]],""),"") | F13: =IFERROR(IF(tab_MP[[#This Row],[mp_beschreibung]]<>"",tab_MP[[#This Row],[mp_beschreibung]],""),"") | G13: =IFERROR(IF(tab_MP[[#This Row],[prf_mp_ges]]<>"",tab_MP[[#This Row],[prf_mp_ges]],""),"") | O13: =IF(AND(tab_MD[[#This Row],[md_prf_erg]]<>"",tab_MD[[#This Row],[md_prf_bisher]]>=0,tab_MD[[#This Row],[md_prf_zukunft]]>=0),tab_MD[[#This Row],[md_prf_bisher]]+tab_MD[[#This Row],[md_prf_zukunft]],"") | P13: =IF(tab_MD[[#This Row],[md_prf_erg]]="ja",tab_MD[[#This Row],[md_zuwf_bisher]],IF(tab_MD[[#This Row],[md_prf_erg]]="nein",0,IF(tab_MD[[#This Row],[md_prf_erg]]="teilweise",-1,""))) | Q13: =IF(tab_MD[[#This Row],[md_prf_erg]]="ja",tab_MD[[#This Row],[md_zuwf_zukunft]],IF(tab_MD[[#This Row],[md_prf_erg]]="nein",0,IF(tab_MD[[#This Row],[md_prf_erg]]="teilweise",-1,""))) | S13: =AND(OR(AND(tab_MD[[#This Row],[md_zuwf_bisher]]="",tab_MD[[#This Row],[md_zuwf_zukunft]]=""),AND(OR(tab_MD[[#This Row],[md_zuwf_bisher]]<>"",tab_MD[[#This Row],[md_zuwf_zukunft]]<>""),tab_MD[[#This Row],[md_prf_erg]]<>"")),tab_MD[[#This Row],[md_prf_bisher]]<>-1,tab_MD[[#This Row],[md_prf_zukunft]]<>-1) -> TRUE | T13: =IF(tab_MD[[#This Row],[md_gegenstand]]<>"",IF(SUM(tab_MD[[#This Row],[md_kosten_bisher]:[md_zuwf_zukunft]])>0,"ja","nein"),"")
A14: =ROW()-2 -> 12 | B14: =IFERROR(IF(tab_MP[[#This Row],[mp_gegenstand]]<>"",tab_MP[[#This Row],[mp_gegenstand]],""),"") | C14: =IFERROR(IF(tab_MP[[#This Row],[mp_kategorie]]<>"",tab_MP[[#This Row],[mp_kategorie]],""),"") | D14: =IFERROR(IF(tab_MP[[#This Row],[mp_subkategorie]]<>"",tab_MP[[#This Row],[mp_subkategorie]],""),"") | E14: =IFERROR(IF(tab_MP[[#This Row],[mp_ort]]<>"",tab_MP[[#This Row],[mp_ort]],""),"") | F14: =IFERROR(IF(tab_MP[[#This Row],[mp_beschreibung]]<>"",tab_MP[[#This Row],[mp_beschreibung]],""),"") | G14: =IFERROR(IF(tab_MP[[#This Row],[prf_mp_ges]]<>"",tab_MP[[#This Row],[prf_mp_ges]],""),"") | O14: =IF(AND(tab_MD[[#This Row],[md_prf_erg]]<>"",tab_MD[[#This Row],[md_prf_bisher]]>=0,tab_MD[[#This Row],[md_prf_zukunft]]>=0),tab_MD[[#This Row],[md_prf_bisher]]+tab_MD[[#This Row],[md_prf_zukunft]],"") | P14: =IF(tab_MD[[#This Row],[md_prf_erg]]="ja",tab_MD[[#This Row],[md_zuwf_bisher]],IF(tab_MD[[#This Row],[md_prf_erg]]="nein",0,IF(tab_MD[[#This Row],[md_prf_erg]]="teilweise",-1,""))) | Q14: =IF(tab_MD[[#This Row],[md_prf_erg]]="ja",tab_MD[[#This Row],[md_zuwf_zukunft]],IF(tab_MD[[#This Row],[md_prf_erg]]="nein",0,IF(tab_MD[[#This Row],[md_prf_erg]]="teilweise",-1,""))) | S14: =AND(OR(AND(tab_MD[[#This Row],[md_zuwf_bisher]]="",tab_MD[[#This Row],[md_zuwf_zukunft]]=""),AND(OR(tab_MD[[#This Row],[md_zuwf_bisher]]<>"",tab_MD[[#This Row],[md_zuwf_zukunft]]<>""),tab_MD[[#This Row],[md_prf_erg]]<>"")),tab_MD[[#This Row],[md_prf_bisher]]<>-1,tab_MD[[#This Row],[md_prf_zukunft]]<>-1) -> TRUE | T14: =IF(tab_MD[[#This Row],[md_gegenstand]]<>"",IF(SUM(tab_MD[[#This Row],[md_kosten_bisher]:[md_zuwf_zukunft]])>0,"ja","nein"),"")
... A502: =ROW()-2 -> 500 | B502: =IFERROR(IF(tab_MP[[#This Row],[mp_gegenstand]]<>"",tab_MP[[#This Row],[mp_gegenstand]],""),"") | C502: =IFERROR(IF(tab_MP[[#This Row],[mp_kategorie]]<>"",tab_MP[[#This Row],[mp_kategorie]],""),"") | D502: =IFERROR(IF(tab_MP[[#This Row],[mp_subkategorie]]<>"",tab_MP[[#This Row],[mp_subkategorie]],""),"") | E502: =IFERROR(IF(tab_MP[[#This Row],[mp_ort]]<>"",tab_MP[[#This Row],[mp_ort]],""),"") | F502: =IFERROR(IF(tab_MP[[#This Row],[mp_beschreibung]]<>"",tab_MP[[#This Row],[mp_beschreibung]],""),"") | G502: =IFERROR(IF(tab_MP[[#This Row],[prf_mp_ges]]<>"",tab_MP[[#This Row],[prf_mp_ges]],""),"") | O502: =IF(AND(tab_MD[[#This Row],[md_prf_erg]]<>"",tab_MD[[#This Row],[md_prf_bisher]]>=0,tab_MD[[#This Row],[md_prf_zukunft]]>=0),tab_MD[[#This Row],[md_prf_bisher]]+tab_MD[[#This Row],[md_prf_zukunft]],"") | P502: =IF(tab_MD[[#This Row],[md_prf_erg]]="ja",tab_MD[[#This Row],[md_zuwf_bisher]],IF(tab_MD[[#This Row],[md_prf_erg]]="nein",0,IF(tab_MD[[#This Row],[md_prf_erg]]="teilweise",-1,""))) | Q502: =IF(tab_MD[[#This Row],[md_prf_erg]]="ja",tab_MD[[#This Row],[md_zuwf_zukunft]],IF(tab_MD[[#This Row],[md_prf_erg]]="nein",0,IF(tab_MD[[#This Row],[md_prf_erg]]="teilweise",-1,""))) | S502: =AND(OR(AND(tab_MD[[#This Row],[md_zuwf_bisher]]="",tab_MD[[#This Row],[md_zuwf_zukunft]]=""),AND(OR(tab_MD[[#This Row],[md_zuwf_bisher]]<>"",tab_MD[[#This Row],[md_zuwf_zukunft]]<>""),tab_MD[[#This Row],[md_prf_erg]]<>"")),tab_MD[[#This Row],[md_prf_bisher]]<>-1,tab_MD[[#This Row],[md_prf_zukunft]]<>-1) -> TRUE | T502: =IF(tab_MD[[#This Row],[md_gegenstand]]<>"",IF(SUM(tab_MD[[#This Row],[md_kosten_bisher]:[md_zuwf_zukunft]])>0,"ja","nein"),"")
F503: =COUNTA(tab_MD[md_beschreibung]) -> 500 | I503: =SUBTOTAL(103,tab_MD[md_rechnungsdatum]) -> 0 | J503: =SUM(tab_MD[md_kosten_bisher]) -> 0 | K503: =SUM(tab_MD[md_zuwf_bisher]) -> 0 | L503: =SUM(tab_MD[md_kosten_zukunft]) -> 0 | M503: =SUM(tab_MD[md_zuwf_zukunft]) -> 0 | O503: =SUM(Maßnahmendurchführung!$O$3:$O$502) -> 0 | P503: =SUMIFS(P$3:P$502,P$3:P$502,"<>-1") -> 0 | Q503: =SUMIFS(Q$3:Q$502,Q$3:Q$502,"<>-1") -> 0
A504: Bei Bedarf (mehr als 10 Einzelmaßnahmen) können weitere Zeilen eingeblendet werden! Bitte dazu am linken Rand 12//503 markieren und nach Rechtsklick "Einblenden" wählen.

Sheet Verwendungsnachweis
A1: Verwendungsnachweis für eine Zuwendung gemäß der Förderrichtlinie dBIR (regio)
A4: Antragsmappe ausschließlich per Mail (.xlsx-Format): | E4: Zutreffendes bitte ankreuzen T oder ausfüllen
A5: Regierung von XYZ | E5: Kennziffer des Trägers
A6: =IFERROR(Antrag!A6,"") -> bitte Tabellenblatt Antragsteller ausfüllen | E6: =Antrag!F6 -> Bitte Tabellenblatt Antragsteller ausfüllen
B8: (Bewilligungsbehörde)
A10: Anlagen (als Bestandteile der elektronischen Antragsmappe):
A11: 1. | B11: Ausgefülltes Tabellenblatt "Maßnahmendurchführung"
A13: 1. | B13: Zuwendungsempfänger
B14: Name laut Anlage 1 zu dBIR
B15: =IFERROR(Antrag!B22,"") -> Trägerkennziffer gemäß Anlage zur dBIR eingeben.
B16: Straße, Hausnummer | E16: PLZ | F16: Ort
B17: =IFERROR(Antrag!B24,"") -> 0 | E17: =IFERROR(Antrag!F24,"") -> 0 | F17: =IFERROR(Antrag!G24,"") -> 0
B18: Bankverbindung (IBAN, Geldinstitut)
B19: =IFERROR(Antrag!B26,"") -> 0
B20: Auskunft erteilt (ggf. Vertretungsberechtigte/r)
B21: =IFERROR(Antrag!B28,"") -> 0
B22: Telefon | D22: E-Mail-Adresse
B23: =IFERROR(Antrag!B30,"") -> 0 | D23: =IFERROR(Antrag!D30,"") -> Bitte im Tabellenblatt Antragsteller ausfüllen.
A25: 2. | B25: Maßnahme
B26: =IF(Maßnahmendurchführung!$I$503=0,"wird aus der Maßnahmenplanung generiert...",IF(COUNTA(Antragsteller!A14:A63)>0,"Die Antragsteller setzten ","Der Antragsteller setzte ")&Maßnahmendurchführung!$I$503&" regionale Maßnahme"&IF(Maßnahmendurchführung!$I$503=1,"","n")&" gemäß beiliegender Maßnahmendurchführung um. Dabei wurden "&Antragsteller!$A$2&" Schulen sowie "&Antragsteller!$A$3&" Schülerinnen und Schüler erreicht.") -> wird aus der Maßnahmenplanung generiert...
A28: 3. | B28: Bewilligte Zuwendungen
B29: 3.1 Zuweisungen
B30: Bewilligende Stelle | C30: Datum | D30: Aktenzeichen | F30: Zuwendungs- bereich | G30: vorl. festgesetzte Zuwendungshöhe
B31: =IF(MID(E6,2,1)="x","Staatsministerium",CONCATENATE("Regierung ",IF(LEFT(E6)="3","der ","von "),IF(LEFT(E6)="1","Oberbayern",IF(LEFT(E6)="2","Niederbayern",IF(LEFT(E6)="3","Oberpfalz",IF(LEFT(E6)="4","Oberfranken",IF(LEFT(E6)="5","Mittelfranken",IF(LEFT(E6)="6","Unterfranken",IF(LEFT(E6)="7","Schwaben","XYZ"))))))))) -> Regierung von XYZ | F31: dBIR regio | G31: =ABRECHNUNG!C20+ABRECHNUNG!C21+ABRECHNUNG!C22+ABRECHNUNG!C23+ABRECHNUNG!C25 -> 0
B32: 3.2 Sonstige Zuwendungen (z.B. Schuldendiensthilfen)
A36: 4. | B36: Sachlicher Bericht
B37: Beschreibung der durchgeführten Maßnahme siehe Tabellenblatt "Maßnahmendurchführung"
A39: 5. | B39: Zahlenmäßiger Nachweis
B40: 5.1 Einnahmen
B41: Art | E41: lt. Zuwendungs-bescheid | F41: lt. Abrechnung | G41: (insbes. v.H-Satz der Zuwendungen)
B42: 5.1.1 Zuwendung aus (Zuwendungsbereich)
B43: dBIR-Maßnahmenabschnitte für regionale Maßnahmen | E43: =SUM(zuw_bew_1,zuw_bew_2,zuw_bew_3,zuw_bew_4,zuw_nach) -> 0 | F43: =MIN(ROUNDDOWN(0.9*G54,2),E43) -> 0 | G43: =IFERROR(F43/F$50,"")
G44: =IFERROR(F44/F$50,"")
G45: =IFERROR(F45/F$50,"")
B46: 5.1.2 Kostenanteile Dritter Rechtsgrund
G47: =IFERROR(F47/F$50,"")
G48: =IFERROR(F48/F$50,"")
B49: 5.1.3 Eigene Mittel (gemäß dBIR einschließlich Spenden) | E49: =D55-SUM(E47:E48)-SUM(E43:E45) -> 0 | F49: =F55-SUM(F47:F48)-SUM(F43:F45) -> 0 | G49: =IFERROR(F49/F$50,"")
B50: Zusammen | E50: =SUM(E49,E47:E48,E43:E45) -> 0 | F50: =SUM(F49,F47:F48,F43:F45) -> 0 | G50: =SUM(G43:G45,G47:G49) -> 0
B51: 5.2 Ausgaben (ohne Beachtung von Höchstbeträgen)
...

Sheet ABRECHNUNG
A1: Wird automatisch ausgefüllt (nicht veränderbar)
A7: BISHER | B7: Höchstbetrag der staatlichen Förderung für regionale Maßnahmen | C7: =Antragsteller!I5 -> 0
B8: Insgesamt noch für regionale Maßnahmen zur Verfügung stehender Höchstbetrag der staatlichen Förderung gemäß dBIR | C8: =C$7-C$20-C$21-C$22-C$23 -> 0 | D8: =AND(C8<=C7,C8>=0) -> TRUE
A9: ANTRAG | B9: Gesamtinvestitionsvolumen für zuwendungsfähige digitale Bildungsinfrastruktur in diesem Antrag gemäß Maßnahmenplanung | C9: =SUM(tab_MP[mp_zuw]) -> 0 | D9: =C9=SUM(C10:C13) -> TRUE
B10: … davon Fördergegenstand a) IT-Systeme im technischen Verbund mit schulgebundenen digitalen Infrastrukturen | C10: =SUMIFS(tab_MP[mp_zuw],tab_MP[mp_gegenstand],Diverses!$A13) -> 0
B11: … davon Fördergegenstand b) digitale Werkzeuge, die zentral vorgehalten werden und dem Aufbau einer regionalen digitalen Lehr-Lern-Infrastruktur dienen | C11: =SUMIFS(tab_MP[mp_zuw],tab_MP[mp_gegenstand],Diverses!$A14) -> 0
B12: … davon Fördergegenstand c) digitale Dienste, die zentral bereitgestellt werden und dem unterrichtlichen Einsatz oder der schulischen Kommunikation dienen | C12: =SUMIFS(tab_MP[mp_zuw],tab_MP[mp_gegenstand],Diverses!$A15) -> 0
B13: … davon Fördergegenstand d) regionale Strukturen für die professionelle Administration und Wartung digitaler Infrastrukturen | C13: =SUMIFS(tab_MP[mp_zuw],tab_MP[mp_gegenstand],Diverses!$A16) -> 0
A14: BEWILLIGUNG | B14: Dem Grunde nach zuwendungsfähige Gesamtausgaben (OHNE BEACHTUNG VON HÖCHSTBETRÄGEN) | C14: =SUM(tab_MP[prf_mp_ges]) -> 0 | D14: =C14=SUM(C15:C18) -> TRUE
B15: … davon Fördergegenstand a) IT-Systeme im technischen Verbund mit schulgebundenen digitalen Infrastrukturen | C15: =SUMIFS(tab_MP[prf_mp_ges],tab_MP[mp_gegenstand],Diverses!$A13) -> 0
B16: … davon Fördergegenstand b) digitale Werkzeuge, die zentral vorgehalten werden und dem Aufbau einer regionalen digitalen Lehr-Lern-Infrastruktur dienen | C16: =SUMIFS(tab_MP[prf_mp_ges],tab_MP[mp_gegenstand],Diverses!$A14) -> 0
B17: … davon Fördergegenstand c) digitale Dienste, die zentral bereitgestellt werden und dem unterrichtlichen Einsatz oder der schulischen Kommunikation dienen | C17: =SUMIFS(tab_MP[prf_mp_ges],tab_MP[mp_gegenstand],Diverses!$A15) -> 0
B18: … davon Fördergegenstand d) regionale Strukturen für die professionelle Administration und Wartung digitaler Infrastrukturen | C18: =SUMIFS(tab_MP[prf_mp_ges],tab_MP[mp_gegenstand],Diverses!$A16) -> 0
B19: Aktuell maximale Bewilligung: Gesamthöhe der Zuwendung (unter Berücksichtigung der GEBUNDENEN MITTEL) | C19: =IFERROR(MIN(ROUNDDOWN(0.9*C14,2)-C20-C21-C22-C23,C$8),0) -> 0
B20: ="Bewilligung "&Antragsteller!D2&"/1" -> Bewilligung Bitte Antragsteller (bzw. Bevollmächtigten) angeben/1 | D20: =AND(C20<=C$14,C20<=C$7) -> TRUE
B21: ="Bewilligung "&Antragsteller!D2&"/2" -> Bewilligung Bitte Antragsteller (bzw. Bevollmächtigten) angeben/2 | D21: =AND(C21<=C$14-C$20,C21<=C$7-C$20) -> TRUE
B22: ="Bewilligung "&Antragsteller!D2&"/3" -> Bewilligung Bitte Antragsteller (bzw. Bevollmächtigten) angeben/3 | D22: =AND(C22<=C$14-C$20-C$21,C22<=C$7-C$20-C$21) -> TRUE
B23: ="Bewilligung "&Antragsteller!D2&"/4" -> Bewilligung Bitte Antragsteller (bzw. Bevollmächtigten) angeben/4 | D23: =AND(C23<=C$14-C$20-C$21-C$22,C23<=C$7-C$20-C$21-C$22) -> TRUE
A24: NACH- BEWILLIGUNG | B24: Max. Zuwendung für über die Bewilligung hinausgehende förderfähige Kosten: | C24: =IF(C$8=0,ROUNDDOWN(0.9*C$14,2)-SUM(C20,C21,C22),0) -> 0
B25: Nachbewilligung
A26: TEILAUS-ZAHLUNG | B26: Erste Teilauszahlung: | D26: =C26<=ROUND(0.8*SUM(C22,C21,C20),2) -> TRUE
B27: Zweite Teilauszahlung: | D27: =IF(C27<>"",SUM(C26,C27)<=ROUND(0.8*SUM(C22,C21,C20),2),"")
B28: Dritte Teilauszahlung: | D28: =IF(C28<>"",SUM(C26,C27,C28)<=ROUND(0.8*SUM(C22,C21,C20),2),"")
A29: VERW.- NACHWEIS | B29: Gesamtinvestitionsvolumen für zuwendungsfähige digitale Bildungsinfrastruktur laut Verwendungsnachweis | C29: =SUM(tab_MD[md_zuwf_bisher])+SUM(tab_MD[md_zuwf_zukunft]) -> 0 | D29: =C29=SUM(C30:C33) -> TRUE
B30: … davon Fördergegenstand a) IT-Systeme im technischen Verbund mit schulgebundenen digitalen Infrastrukturen | C30: =SUMIFS(tab_MD[md_zuwf_bisher],tab_MD[md_gegenstand],Diverses!$A13)+SUMIFS(tab_MD[md_zuwf_zukunft],tab_MD[md_gegenstand],Diverses!$A13) -> 0
B31: … davon Fördergegenstand b) digitale Werkzeuge, die zentral vorgehalten werden und dem Aufbau einer regionalen digitalen Lehr-Lern-Infrastruktur dienen | C31: =SUMIFS(tab_MD[md_zuwf_bisher],tab_MD[md_gegenstand],Diverses!$A14)+SUMIFS(tab_MD[md_zuwf_zukunft],tab_MD[md_gegenstand],Diverses!$A14) -> 0
B32: … davon Fördergegenstand c) digitale Dienste, die zentral bereitgestellt werden und dem unterrichtlichen Einsatz oder der schulischen Kommunikation dienen | C32: =SUMIFS(tab_MD[md_zuwf_bisher],tab_MD[md_gegenstand],Diverses!$A15)+SUMIFS(tab_MD[md_zuwf_zukunft],tab_MD[md_gegenstand],Diverses!$A15) -> 0
B33: … davon Fördergegenstand d) regionale Strukturen für die professionelle Administration und Wartung digitaler Infrastrukturen | C33: =SUMIFS(tab_MD[md_zuwf_bisher],tab_MD[md_gegenstand],Diverses!$A16)+SUMIFS(tab_MD[md_zuwf_zukunft],tab_MD[md_gegenstand],Diverses!$A16) -> 0
B34: Bereits angefallene förderfähige Ausgaben laut Verwendungsnachweis | C34: =Verwendungsnachweis!$G$55 -> 0
B35: Zukünftig anfallende förderfähige Ausgaben laut Verwendungsnachweis | C35: =Verwendungsnachweis!$F$61 -> 0
A36: SCHLUSS- BESCHEID | B36: Geprüfte zuwendungsfähige Gesamtausgaben (OHNE BEACHTUNG VON HÖCHSTBETRÄGEN) | C36: =tab_MD[[#Totals],[md_prf_ges]] -> 0 | D36: =C36=SUM(C37:C40) -> TRUE
B37: … davon Fördergegenstand a) IT-Systeme im technischen Verbund mit schulgebundenen digitalen Infrastrukturen | C37: =SUMIFS(tab_MD[md_prf_ges],tab_MD[md_gegenstand],Diverses!$A13) -> 0
B38: … davon Fördergegenstand b) digitale Werkzeuge, die zentral vorgehalten werden und dem Aufbau einer regionalen digitalen Lehr-Lern-Infrastruktur dienen | C38: =SUMIFS(tab_MD[md_prf_ges],tab_MD[md_gegenstand],Diverses!$A14) -> 0
B39: … davon Fördergegenstand c) digitale Dienste, die zentral bereitgestellt werden und dem unterrichtlichen Einsatz oder der schulischen Kommunikation dienen | C39: =SUMIFS(tab_MD[md_prf_ges],tab_MD[md_gegenstand],Diverses!$A15) -> 0
B40: … davon Fördergegenstand d) regionale Strukturen für die professionelle Administration und Wartung digitaler Infrastrukturen | C40: =SUMIFS(tab_MD[md_prf_ges],tab_MD[md_gegenstand],Diverses!$A16) -> 0
B41: Geprüfte bereits angefallene förderfähige Ausgaben | C41: =tab_MD[[#Totals],[md_prf_bisher]] -> 0 | D41: =C41=tab_MD[[#Totals],[md_prf_bisher]] -> TRUE
B42: Geprüfte zukünftig anfallende förderfähige Ausgaben | C42: =tab_MD[[#Totals],[md_prf_zukunft]] -> 0 | D42: =C42=C36-C41 -> TRUE
A43: SCHLUSS- BESCHEID | B43: Im Schlussbescheid festgesetzte Zuwendungshöhe (unter Beachtung eventueller Beiträger Dritter) | C43: =MIN(SUM(C20:C23,C25),C7,ROUNDDOWN(0.9*C36,2))-IF(C36-MIN(SUM(C20:C23,C25),C7,ROUNDDOWN(0.9*C36,2))<Verwendungsnachweis!$F$56,Verwendungsnachweis!$F$56-(C36-MIN(SUM(C20:C23,C25),C7,ROUNDDOWN(0.9*C36,2))),0) -> 0 | D43: =AND(C43<=C7,G45>=0,C43=MIN(C7,ROUNDDOWN(0.9*C36,2))) -> TRUE | E43: =IF(G45<0,"Vorsicht, Beiträge Dritter größer als Eigenanteil!","")
B44: … davon für bereits angefallene Ausgaben | C44: =MIN(ROUNDDOWN(0.9*C41,2),C43-C45) -> 0 | E44: Eigenanteil | F44: abzgl. Beiträge Dritter | G44: ABZUG SB
B45: … davon für zukünftig anfallende Ausgaben | C45: =MIN(ROUNDDOWN(0.9*C42,2),C43) -> 0 | E45: =C29-C43 -> 0 | F45: =E45-Verwendungsnachweis!F56 -> 0 | G45: =MIN(0,F45) -> 0
...

Sheet Antragsteller
A1: Zuständig: | B1: =IF($I$1<>"",VLOOKUP($I$1,tab_RBZ[],3,FALSE),"bitte Antragsteller eintragen") -> bitte Antragsteller eintragen | D1: Trägerkennziffer | H1: 44562 | I1: =IFERROR(VLOOKUP("x",tab_RBZ[[zuständig?]:[RBZ2]],2,FALSE),"")
A2: =tab_HAUPT[Schulen]+tab_MIT[[#Totals],[Schulen]] -> 0 | B2: Schulen in Zuständigkeit der Antragsteller | D2: =IF(tab_HAUPT[TKZ]="","Bitte Antragsteller (bzw. Bevollmächtigten) angeben",IF(AND(tab_HAUPT[TKZ]<>"",A$14=""),tab_HAUPT[TKZ],"Wird von der Regierung vergeben.")) -> Bitte Antragsteller (bzw. Bevollmächtigten) angeben | H2: 44742 | I2: 5
A3: =tab_HAUPT[Schülerzahl 2020/21]+tab_MIT[[#Totals],[Schülerzahl 2020/21]] -> 0 | B3: Schülerinnen und Schüler in den Schulen | I3: 2000
A4: ="Die Mindestantragsgröße ist " & IF($I$4=1,"","nicht ") & "erreicht." -> Die Mindestantragsgröße ist nicht erreicht. | H4: =tab_HAUPT[Nominalbudget]+tab_MIT[[#Totals],[Nominalbudget]] -> 0 | I4: =IF(AND(tab_HAUPT[TKZ]<>"",OR($A$2>=$I$2,$A$3>=$I$3,COUNTIF(tab_HAUPT[Schulen],">0")+COUNTIF(tab_MIT[Schulen],">0")>=2)),1,0) -> 0
A5: =$I$5 -> 0 | H5: =A5=H4 -> TRUE | I5: =IF($I$4=1,SUM(tab_HAUPT[Budget*)],tab_MIT[[#Totals],[Budget*)]]),0) -> 0
D6: =WENN(tab_HAUPT[TKZ]="";"Bitte Antragsteller (bzw. Bevollmächtigten) angeben";WENN(UND(tab_HAUPT[TKZ]<>"";A$14="");tab_HAUPT[TKZ];"Wird von der Regierung vergeben.")) | I6: =1+COUNTA(tab_MIT[TKZ]) -> 1
A7: TKZ | B7: Antragsteller (bzw. Bevollmächtigter) | C7: Kontakt-E-Mail | D7: Zeichnung | E7: Schulen | F7: Schülerzahl 2020/21 | G7: Budget*) | H7: RBZ | I7: Nominalbudget
B8: =IF(tab_HAUPT[TKZ]="","Trägerkennziffer gemäß Anlage zur dBIR eingeben.",IFERROR(VLOOKUP(tab_HAUPT[TKZ],tab_ANLAGE[],2,FALSE),"ungültige Trägerkennziffer")) -> Trägerkennziffer gemäß Anlage zur dBIR eingeben. | E8: =IF(tab_HAUPT[TKZ]="",0,COUNTIFS(tab_SCHULEN[TKZ],tab_HAUPT[TKZ])) -> 0 | F8: =IF(tab_HAUPT[TKZ]="",0,SUMIFS(tab_SCHULEN[SuS_21-22],tab_SCHULEN[TKZ],tab_HAUPT[TKZ])) -> 0 | G8: =IF(tab_HAUPT[TKZ]="","",IFERROR(ROUNDDOWN(0.25*VLOOKUP(tab_HAUPT[TKZ],tab_ANLAGE[],3,FALSE),2),0)) | H8: =LEFT(tab_HAUPT[TKZ],1) | I8: =IF(tab_HAUPT[TKZ]="",0,IFERROR(ROUNDDOWN(0.25*VLOOKUP(tab_HAUPT[TKZ],tab_ANLAGE[],3,FALSE),2),0)) -> 0
A10: Nur im Fall von Antragsgemeinschaften auszufüllen:
A11: Der Bevollmächtigte und die Mitantragsteller erklären, Organisationsstrukturen, Art und Umfang der Aufgabenzuständigkeiten sowie Kostenregelungen betreffend die Förderung der regionalen Investitionsmaßnahmen in einer eine rechtlich verbindlichen Vereinbarung zu regeln.
A12: Der Bevollmächtigte und die Mitantragsteller erklären, alle aus dem Förderverfahren erwachsenden Verpflichtungen gemeinsam einzuhalten.
A13: TKZ | B13: Mitantragsteller | C13: Kontakt-E-Mail | D13: Zeichnung | E13: Schulen | F13: Schülerzahl 2020/21 | G13: Budget*) | H13: RBZ | I13: Nominalbudget
B14: =IF(tab_MIT[TKZ]="","",IFERROR(VLOOKUP(tab_MIT[TKZ],tab_ANLAGE[],2,FALSE),"ungültige Trägerkennziffer")) | E14: =IF(tab_MIT[TKZ]="","",IF(tab_MIT[[#This Row],[TKZ]]=tab_HAUPT[TKZ],0,COUNTIFS(tab_SCHULEN[TKZ],tab_MIT[TKZ]))) | F14: =IF(tab_MIT[TKZ]="","",IF(tab_MIT[[#This Row],[TKZ]]=tab_HAUPT[TKZ],0,SUMIFS(tab_SCHULEN[SuS_21-22],tab_SCHULEN[TKZ],tab_MIT[TKZ]))) | G14: =IF(tab_MIT[TKZ]="","",IF(OR(tab_MIT[[#This Row],[TKZ]]=tab_HAUPT[TKZ],COUNTIF($A$14:$A14,tab_MIT[[#This Row],[TKZ]])>1),0,IFERROR(ROUNDDOWN(0.25*VLOOKUP(tab_MIT[TKZ],tab_ANLAGE[],3,FALSE),2),0))) | H14: =LEFT(tab_MIT[[#This Row],[TKZ]],1) | I14: =IF(tab_MIT[TKZ]="",0,IFERROR(ROUNDDOWN(0.25*VLOOKUP(tab_MIT[TKZ],tab_ANLAGE[],3,FALSE),2),0)) -> 0
B15: =IF(tab_MIT[TKZ]="","",IFERROR(VLOOKUP(tab_MIT[TKZ],tab_ANLAGE[],2,FALSE),"ungültige Trägerkennziffer")) | E15: =IF(tab_MIT[TKZ]="","",IF(tab_MIT[[#This Row],[TKZ]]=tab_HAUPT[TKZ],0,COUNTIFS(tab_SCHULEN[TKZ],tab_MIT[TKZ]))) | F15: =IF(tab_MIT[TKZ]="","",IF(tab_MIT[[#This Row],[TKZ]]=tab_HAUPT[TKZ],0,SUMIFS(tab_SCHULEN[SuS_21-22],tab_SCHULEN[TKZ],tab_MIT[TKZ]))) | G15: =IF(tab_MIT[TKZ]="","",IF(OR(tab_MIT[[#This Row],[TKZ]]=tab_HAUPT[TKZ],COUNTIF($A$14:$A15,tab_MIT[[#This Row],[TKZ]])>1),0,IFERROR(ROUNDDOWN(0.25*VLOOKUP(tab_MIT[TKZ],tab_ANLAGE[],3,FALSE),2),0))) | H15: =LEFT(tab_MIT[[#This Row],[TKZ]],1) | I15: =IF(tab_MIT[TKZ]="",0,IFERROR(ROUNDDOWN(0.25*VLOOKUP(tab_MIT[TKZ],tab_ANLAGE[],3,FALSE),2),0)) -> 0
B16: =IF(tab_MIT[TKZ]="","",IFERROR(VLOOKUP(tab_MIT[TKZ],tab_ANLAGE[],2,FALSE),"ungültige Trägerkennziffer")) | E16: =IF(tab_MIT[TKZ]="","",IF(tab_MIT[[#This Row],[TKZ]]=tab_HAUPT[TKZ],0,COUNTIFS(tab_SCHULEN[TKZ],tab_MIT[TKZ]))) | F16: =IF(tab_MIT[TKZ]="","",IF(tab_MIT[[#This Row],[TKZ]]=tab_HAUPT[TKZ],0,SUMIFS(tab_SCHULEN[SuS_21-22],tab_SCHULEN[TKZ],tab_MIT[TKZ]))) | G16: =IF(tab_MIT[TKZ]="","",IF(OR(tab_MIT[[#This Row],[TKZ]]=tab_HAUPT[TKZ],COUNTIF($A$14:$A16,tab_MIT[[#This Row],[TKZ]])>1),0,IFERROR(ROUNDDOWN(0.25*VLOOKUP(tab_MIT[TKZ],tab_ANLAGE[],3,FALSE),2),0))) | H16: =LEFT(tab_MIT[[#This Row],[TKZ]],1) | I16: =IF(tab_MIT[TKZ]="",0,IFERROR(ROUNDDOWN(0.25*VLOOKUP(tab_MIT[TKZ],tab_ANLAGE[],3,FALSE),2),0)) -> 0
B17: =IF(tab_MIT[TKZ]="","",IFERROR(VLOOKUP(tab_MIT[TKZ],tab_ANLAGE[],2,FALSE),"ungültige Trägerkennziffer")) | E17: =IF(tab_MIT[TKZ]="","",IF(tab_MIT[[#This Row],[TKZ]]=tab_HAUPT[TKZ],0,COUNTIFS(tab_SCHULEN[TKZ],tab_MIT[TKZ]))) | F17: =IF(tab_MIT[TKZ]="","",IF(tab_MIT[[#This Row],[TKZ]]=tab_HAUPT[TKZ],0,SUMIFS(tab_SCHULEN[SuS_21-22],tab_SCHULEN[TKZ],tab_MIT[TKZ]))) | G17: =IF(tab_MIT[TKZ]="","",IF(OR(tab_MIT[[#This Row],[TKZ]]=tab_HAUPT[TKZ],COUNTIF($A$14:$A17,tab_MIT[[#This Row],[TKZ]])>1),0,IFERROR(ROUNDDOWN(0.25*VLOOKUP(tab_MIT[TKZ],tab_ANLAGE[],3,FALSE),2),0))) | H17: =LEFT(tab_MIT[[#This Row],[TKZ]],1) | I17: =IF(tab_MIT[TKZ]="",0,IFERROR(ROUNDDOWN(0.25*VLOOKUP(tab_MIT[TKZ],tab_ANLAGE[],3,FALSE),2),0)) -> 0
B18: =IF(tab_MIT[TKZ]="","",IFERROR(VLOOKUP(tab_MIT[TKZ],tab_ANLAGE[],2,FALSE),"ungültige Trägerkennziffer")) | E18: =IF(tab_MIT[TKZ]="","",IF(tab_MIT[[#This Row],[TKZ]]=tab_HAUPT[TKZ],0,COUNTIFS(tab_SCHULEN[TKZ],tab_MIT[TKZ]))) | F18: =IF(tab_MIT[TKZ]="","",IF(tab_MIT[[#This Row],[TKZ]]=tab_HAUPT[TKZ],0,SUMIFS(tab_SCHULEN[SuS_21-22],tab_SCHULEN[TKZ],tab_MIT[TKZ]))) | G18: =IF(tab_MIT[TKZ]="","",IF(OR(tab_MIT[[#This Row],[TKZ]]=tab_HAUPT[TKZ],COUNTIF($A$14:$A18,tab_MIT[[#This Row],[TKZ]])>1),0,IFERROR(ROUNDDOWN(0.25*VLOOKUP(tab_MIT[TKZ],tab_ANLAGE[],3,FALSE),2),0))) | H18: =LEFT(tab_MIT[[#This Row],[TKZ]],1) | I18: =IF(tab_MIT[TKZ]="",0,IFERROR(ROUNDDOWN(0.25*VLOOKUP(tab_MIT[TKZ],tab_ANLAGE[],3,FALSE),2),0)) -> 0
B19: =IF(tab_MIT[TKZ]="","",IFERROR(VLOOKUP(tab_MIT[TKZ],tab_ANLAGE[],2,FALSE),"ungültige Trägerkennziffer")) | E19: =IF(tab_MIT[TKZ]="","",IF(tab_MIT[[#This Row],[TKZ]]=tab_HAUPT[TKZ],0,COUNTIFS(tab_SCHULEN[TKZ],tab_MIT[TKZ]))) | F19: =IF(tab_MIT[TKZ]="","",IF(tab_MIT[[#This Row],[TKZ]]=tab_HAUPT[TKZ],0,SUMIFS(tab_SCHULEN[SuS_21-22],tab_SCHULEN[TKZ],tab_MIT[TKZ]))) | G19: =IF(tab_MIT[TKZ]="","",IF(OR(tab_MIT[[#This Row],[TKZ]]=tab_HAUPT[TKZ],COUNTIF($A$14:$A19,tab_MIT[[#This Row],[TKZ]])>1),0,IFERROR(ROUNDDOWN(0.25*VLOOKUP(tab_MIT[TKZ],tab_ANLAGE[],3,FALSE),2),0))) | H19: =LEFT(tab_MIT[[#This Row],[TKZ]],1) | I19: =IF(tab_MIT[TKZ]="",0,IFERROR(ROUNDDOWN(0.25*VLOOKUP(tab_MIT[TKZ],tab_ANLAGE[],3,FALSE),2),0)) -> 0
B20: =IF(tab_MIT[TKZ]="","",IFERROR(VLOOKUP(tab_MIT[TKZ],tab_ANLAGE[],2,FALSE),"ungültige Trägerkennziffer")) | E20: =IF(tab_MIT[TKZ]="","",IF(tab_MIT[[#This Row],[TKZ]]=tab_HAUPT[TKZ],0,COUNTIFS(tab_SCHULEN[TKZ],tab_MIT[TKZ]))) | F20: =IF(tab_MIT[TKZ]="","",IF(tab_MIT[[#This Row],[TKZ]]=tab_HAUPT[TKZ],0,SUMIFS(tab_SCHULEN[SuS_21-22],tab_SCHULEN[TKZ],tab_MIT[TKZ]))) | G20: =IF(tab_MIT[TKZ]="","",IF(OR(tab_MIT[[#This Row],[TKZ]]=tab_HAUPT[TKZ],COUNTIF($A$14:$A20,tab_MIT[[#This Row],[TKZ]])>1),0,IFERROR(ROUNDDOWN(0.25*VLOOKUP(tab_MIT[TKZ],tab_ANLAGE[],3,FALSE),2),0))) | H20: =LEFT(tab_MIT[[#This Row],[TKZ]],1) | I20: =IF(tab_MIT[TKZ]="",0,IFERROR(ROUNDDOWN(0.25*VLOOKUP(tab_MIT[TKZ],tab_ANLAGE[],3,FALSE),2),0)) -> 0
B21: =IF(tab_MIT[TKZ]="","",IFERROR(VLOOKUP(tab_MIT[TKZ],tab_ANLAGE[],2,FALSE),"ungültige Trägerkennziffer")) | E21: =IF(tab_MIT[TKZ]="","",IF(tab_MIT[[#This Row],[TKZ]]=tab_HAUPT[TKZ],0,COUNTIFS(tab_SCHULEN[TKZ],tab_MIT[TKZ]))) | F21: =IF(tab_MIT[TKZ]="","",IF(tab_MIT[[#This Row],[TKZ]]=tab_HAUPT[TKZ],0,SUMIFS(tab_SCHULEN[SuS_21-22],tab_SCHULEN[TKZ],tab_MIT[TKZ]))) | G21: =IF(tab_MIT[TKZ]="","",IF(OR(tab_MIT[[#This Row],[TKZ]]=tab_HAUPT[TKZ],COUNTIF($A$14:$A21,tab_MIT[[#This Row],[TKZ]])>1),0,IFERROR(ROUNDDOWN(0.25*VLOOKUP(tab_MIT[TKZ],tab_ANLAGE[],3,FALSE),2),0))) | H21: =LEFT(tab_MIT[[#This Row],[TKZ]],1) | I21: =IF(tab_MIT[TKZ]="",0,IFERROR(ROUNDDOWN(0.25*VLOOKUP(tab_MIT[TKZ],tab_ANLAGE[],3,FALSE),2),0)) -> 0
B22: =IF(tab_MIT[TKZ]="","",IFERROR(VLOOKUP(tab_MIT[TKZ],tab_ANLAGE[],2,FALSE),"ungültige Trägerkennziffer")) | E22: =IF(tab_MIT[TKZ]="","",IF(tab_MIT[[#This Row],[TKZ]]=tab_HAUPT[TKZ],0,COUNTIFS(tab_SCHULEN[TKZ],tab_MIT[TKZ]))) | F22: =IF(tab_MIT[TKZ]="","",IF(tab_MIT[[#This Row],[TKZ]]=tab_HAUPT[TKZ],0,SUMIFS(tab_SCHULEN[SuS_21-22],tab_SCHULEN[TKZ],tab_MIT[TKZ]))) | G22: =IF(tab_MIT[TKZ]="","",IF(OR(tab_MIT[[#This Row],[TKZ]]=tab_HAUPT[TKZ],COUNTIF($A$14:$A22,tab_MIT[[#This Row],[TKZ]])>1),0,IFERROR(ROUNDDOWN(0.25*VLOOKUP(tab_MIT[TKZ],tab_ANLAGE[],3,FALSE),2),0))) | H22: =LEFT(tab_MIT[[#This Row],[TKZ]],1) | I22: =IF(tab_MIT[TKZ]="",0,IFERROR(ROUNDDOWN(0.25*VLOOKUP(tab_MIT[TKZ],tab_ANLAGE[],3,FALSE),2),0)) -> 0
B23: =IF(tab_MIT[TKZ]="","",IFERROR(VLOOKUP(tab_MIT[TKZ],tab_ANLAGE[],2,FALSE),"ungültige Trägerkennziffer")) | E23: =IF(tab_MIT[TKZ]="","",IF(tab_MIT[[#This Row],[TKZ]]=tab_HAUPT[TKZ],0,COUNTIFS(tab_SCHULEN[TKZ],tab_MIT[TKZ]))) | F23: =IF(tab_MIT[TKZ]="","",IF(tab_MIT[[#This Row],[TKZ]]=tab_HAUPT[TKZ],0,SUMIFS(tab_SCHULEN[SuS_21-22],tab_SCHULEN[TKZ],tab_MIT[TKZ]))) | G23: =IF(tab_MIT[TKZ]="","",IF(OR(tab_MIT[[#This Row],[TKZ]]=tab_HAUPT[TKZ],COUNTIF($A$14:$A23,tab_MIT[[#This Row],[TKZ]])>1),0,IFERROR(ROUNDDOWN(0.25*VLOOKUP(tab_MIT[TKZ],tab_ANLAGE[],3,FALSE),2),0))) | H23: =LEFT(tab_MIT[[#This Row],[TKZ]],1) | I23: =IF(tab_MIT[TKZ]="",0,IFERROR(ROUNDDOWN(0.25*VLOOKUP(tab_MIT[TKZ],tab_ANLAGE[],3,FALSE),2),0)) -> 0
B24: =IF(tab_MIT[TKZ]="","",IFERROR(VLOOKUP(tab_MIT[TKZ],tab_ANLAGE[],2,FALSE),"ungültige Trägerkennziffer")) | E24: =IF(tab_MIT[TKZ]="","",IF(tab_MIT[[#This Row],[TKZ]]=tab_HAUPT[TKZ],0,COUNTIFS(tab_SCHULEN[TKZ],tab_MIT[TKZ]))) | F24: =IF(tab_MIT[TKZ]="","",IF(tab_MIT[[#This Row],[TKZ]]=tab_HAUPT[TKZ],0,SUMIFS(tab_SCHULEN[SuS_21-22],tab_SCHULEN[TKZ],tab_MIT[TKZ]))) | G24: =IF(tab_MIT[TKZ]="","",IF(OR(tab_MIT[[#This Row],[TKZ]]=tab_HAUPT[TKZ],COUNTIF($A$14:$A24,tab_MIT[[#This Row],[TKZ]])>1),0,IFERROR(ROUNDDOWN(0.25*VLOOKUP(tab_MIT[TKZ],tab_ANLAGE[],3,FALSE),2),0))) | H24: =LEFT(tab_MIT[[#This Row],[TKZ]],1) | I24: =IF(tab_MIT[TKZ]="",0,IFERROR(ROUNDDOWN(0.25*VLOOKUP(tab_MIT[TKZ],tab_ANLAGE[],3,FALSE),2),0)) -> 0
B25: =IF(tab_MIT[TKZ]="","",IFERROR(VLOOKUP(tab_MIT[TKZ],tab_ANLAGE[],2,FALSE),"ungültige Trägerkennziffer")) | E25: =IF(tab_MIT[TKZ]="","",IF(tab_MIT[[#This Row],[TKZ]]=tab_HAUPT[TKZ],0,COUNTIFS(tab_SCHULEN[TKZ],tab_MIT[TKZ]))) | F25: =IF(tab_MIT[TKZ]="","",IF(tab_MIT[[#This Row],[TKZ]]=tab_HAUPT[TKZ],0,SUMIFS(tab_SCHULEN[SuS_21-22],tab_SCHULEN[TKZ],tab_MIT[TKZ]))) | G25: =IF(tab_MIT[TKZ]="","",IF(OR(tab_MIT[[#This Row],[TKZ]]=tab_HAUPT[TKZ],COUNTIF($A$14:$A25,tab_MIT[[#This Row],[TKZ]])>1),0,IFERROR(ROUNDDOWN(0.25*VLOOKUP(tab_MIT[TKZ],tab_ANLAGE[],3,FALSE),2),0))) | H25: =LEFT(tab_MIT[[#This Row],[TKZ]],1) | I25: =IF(tab_MIT[TKZ]="",0,IFERROR(ROUNDDOWN(0.25*VLOOKUP(tab_MIT[TKZ],tab_ANLAGE[],3,FALSE),2),0)) -> 0
... B63: =IF(tab_MIT[TKZ]="","",IFERROR(VLOOKUP(tab_MIT[TKZ],tab_ANLAGE[],2,FALSE),"ungültige Trägerkennziffer")) | E63: =IF(tab_MIT[TKZ]="","",IF(tab_MIT[[#This Row],[TKZ]]=tab_HAUPT[TKZ],0,COUNTIFS(tab_SCHULEN[TKZ],tab_MIT[TKZ]))) | F63: =IF(tab_MIT[TKZ]="","",IF(tab_MIT[[#This Row],[TKZ]]=tab_HAUPT[TKZ],0,SUMIFS(tab_SCHULEN[SuS_21-22],tab_SCHULEN[TKZ],tab_MIT[TKZ]))) | G63: =IF(tab_MIT[TKZ]="","",IF(OR(tab_MIT[[#This Row],[TKZ]]=tab_HAUPT[TKZ],COUNTIF($A$14:$A63,tab_MIT[[#This Row],[TKZ]])>1),0,IFERROR(ROUNDDOWN(0.25*VLOOKUP(tab_MIT[TKZ],tab_ANLAGE[],3,FALSE),2),0))) | H63: =LEFT(tab_MIT[[#This Row],[TKZ]],1) | I63: =IF(tab_MIT[TKZ]="",0,IFERROR(ROUNDDOWN(0.25*VLOOKUP(tab_MIT[TKZ],tab_ANLAGE[],3,FALSE),2),0)) -> 0
E64: =SUBTOTAL(9,tab_MIT[Schulen]) -> 0 | F64: =SUBTOTAL(9,tab_MIT[Schülerzahl 2020/21]) -> 0 | G64: =SUBTOTAL(9,tab_MIT[Budget*)]) -> 0 | I64: =SUM(tab_MIT[Nominalbudget]) -> 0
A65: Zusätzliche Zeilen bei mehr als 10 Mitantragstellern können am linken Tabellenrand eingeblendet werden.
A66: Der Bevollmächtigte verpflichtet sich zur Abwicklung des Förderverfahrens, zur Vertretung der Gemeinschaft der Schulaufwandsträger ggü. der Bewilligungsbehörde und trägt für die zweckentsprechende Umsetzung der regionalen Maßnahme nach Maßgabe der der zwischen den Schulaufwandsträgern getroffenen Regelungen Sorge.
A67: Die beteiligten Zuwendungsempfänger verpflichten sich über den gemeinsamen Förderantrag im eigenen Einflussbereich zur Einhaltung der Zuwendungsvoraussetzungen, des Förderzwecks sowie der gemeinsam abgegebenen Versicherungen und treten die Abwicklung des Fördervollzugs stellvertretend an den Bevollmächtigten ab.
A68: *) Falls nur ein Teil des Maximalbudgets in diesen Antrag eingebracht werden soll, bitte Rücksprache mit der zuständigen Regierung.

Sheet Maßnahmenplanung
A1: 10 | B1: Fördergegenstand gem. dBIR Nr. 2 [aus DropDown auswählen] | C1: Spezifizierung der Maßnahme [aus DropDown auswählen] | D1: ggf. weitere Spezifizierung der Maßnahme [aus Dropdown auswählen] | E1: Ort der Maßnahmenumsetzung [aus DropDown auswählen] | F1: pädagogisch-technischer Einsatzzweck: konkrete Beschreibung der Nutzung durch die Schulen für unterrichtsbezogene Zwecke [max. 400 Zeichen] | G1: Antrag / Erweiterung | H1: Gesamtkosten geschätzt | I1: … darunter durch den Antragsteller geschätzte zuwendungs-fähige Kosten | J1: Dem Grunde nach zuwendungs-fähig? | K1: zuwendungs- fähige Gesamtkosten (ohne Beachtung Höchstbetrag) | L1: Begründung bei Minderung oder Streichung | M1: =COUNTIFS(tab_MP[prf_mp_fertig],"=FALSCH") -> 0 | N1: Zur Weiterverarbeitung…
A2: mp_nr | B2: mp_gegenstand | C2: mp_kategorie | D2: mp_subkategorie | E2: mp_ort | F2: mp_beschreibung | G2: mp_antragsnr | H2: mp_ges | I2: mp_zuw | J2: prf_mp_janein | K2: prf_mp_ges | L2: prf_mp_grund | M2: prf_mp_fertig | N2: ID_geg | O2: tab_geg | P2: ID_kat | Q2: tab_subkat | R2: ID_subkat | S2: ID_ort | T2: mp_ort_nr | U2: mp_ort_ges
A3: =ROW()-2 -> 1 | K3: =IF(tab_MP[[#This Row],[prf_mp_janein]]="ja",tab_MP[[#This Row],[mp_zuw]],IF(tab_MP[[#This Row],[prf_mp_janein]]="nein",0,IF(tab_MP[[#This Row],[prf_mp_janein]]="teilweise",-1,""))) | M3: =AND(OR(tab_MP[[#This Row],[mp_zuw]]="",AND(tab_MP[[#This Row],[mp_zuw]]<>"",tab_MP[[#This Row],[prf_mp_janein]]<>"")),tab_MP[[#This Row],[prf_mp_ges]]<>-1) -> TRUE | N3: =IFERROR(VLOOKUP(tab_MP[[#This Row],[mp_gegenstand]],tab_GEGENSTAND[],4,FALSE),"") | O3: =IF(tab_MP[[#This Row],[ID_geg]]=1,"tab_System[Kategorie]",IF(tab_MP[[#This Row],[ID_geg]]=2,"tab_Werkzeug[Kategorie]",IF(tab_MP[[#This Row],[ID_geg]]=3,"tab_Dienst[Kategorie]",IF(tab_MP[[#This Row],[ID_geg]]=4,"tab_WuP[Kategorie]","")))) | P3: =IFERROR(IF(tab_MP[[#This Row],[ID_geg]]=1,VLOOKUP(tab_MP[[#This Row],[mp_kategorie]],tab_System[],2,FALSE),IF(tab_MP[[#This Row],[ID_geg]]=2,VLOOKUP(tab_MP[[#This Row],[mp_kategorie]],tab_Werkzeug[],2,FALSE),IF(tab_MP[[#This Row],[ID_geg]]=3,VLOOKUP(tab_MP[[#This Row],[mp_kategorie]],tab_Dienst[],2,FALSE),IF(tab_MP[[#This Row],[ID_geg]]=4,VLOOKUP(tab_MP[[#This Row],[mp_kategorie]],tab_WuP[],2,FALSE),"")))),0) | Q3: =IF(AND(tab_MP[[#This Row],[ID_geg]]=1,tab_MP[[#This Row],[ID_kat]]=1),"tab_Serverkomponenten[Subkategorie]",IF(AND(tab_MP[[#This Row],[ID_geg]]=1,tab_MP[[#This Row],[ID_kat]]=4),"tab_Projektraum[Subkategorie]","")) | R3: =IFERROR(IF(AND(tab_MP[[#This Row],[ID_geg]]=1,tab_MP[[#This Row],[ID_kat]]=1),VLOOKUP(tab_MP[[#This Row],[mp_subkategorie]],tab_Serverkomponenten[],2,FALSE),IF(AND(tab_MP[[#This Row],[ID_geg]]=1,tab_MP[[#This Row],[ID_kat]]=4),VLOOKUP(tab_MP[[#This Row],[mp_subkategorie]],tab_Projektraum[],2,FALSE),"")),0) | S3: =IFERROR(VLOOKUP(tab_MP[[#This Row],[mp_ort]],tab_ORT[],2,FALSE),"") | T3: =COUNTIFS($S$3:$S3,$S3,$S$3:$S3,">0") -> 0 | U3: =COUNTIFS(tab_MP[ID_ort],tab_MP[[#This Row],[ID_ort]],tab_MP[ID_ort],">0") -> 0
A4: =ROW()-2 -> 2 | K4: =IF(tab_MP[[#This Row],[prf_mp_janein]]="ja",tab_MP[[#This Row],[mp_zuw]],IF(tab_MP[[#This Row],[prf_mp_janein]]="nein",0,IF(tab_MP[[#This Row],[prf_mp_janein]]="teilweise",-1,""))) | M4: =AND(OR(tab_MP[[#This Row],[mp_zuw]]="",AND(tab_MP[[#This Row],[mp_zuw]]<>"",tab_MP[[#This Row],[prf_mp_janein]]<>"")),tab_MP[[#This Row],[prf_mp_ges]]<>-1) -> TRUE | N4: =IFERROR(VLOOKUP(tab_MP[[#This Row],[mp_gegenstand]],tab_GEGENSTAND[],4,FALSE),"") | O4: =IF(tab_MP[[#This Row],[ID_geg]]=1,"tab_System[Kategorie]",IF(tab_MP[[#This Row],[ID_geg]]=2,"tab_Werkzeug[Kategorie]",IF(tab_MP[[#This Row],[ID_geg]]=3,"tab_Dienst[Kategorie]",IF(tab_MP[[#This Row],[ID_geg]]=4,"tab_WuP[Kategorie]","")))) | P4: =IFERROR(IF(tab_MP[[#This Row],[ID_geg]]=1,VLOOKUP(tab_MP[[#This Row],[mp_kategorie]],tab_System[],2,FALSE),IF(tab_MP[[#This Row],[ID_geg]]=2,VLOOKUP(tab_MP[[#This Row],[mp_kategorie]],tab_Werkzeug[],2,FALSE),IF(tab_MP[[#This Row],[ID_geg]]=3,VLOOKUP(tab_MP[[#This Row],[mp_kategorie]],tab_Dienst[],2,FALSE),IF(tab_MP[[#This Row],[ID_geg]]=4,VLOOKUP(tab_MP[[#This Row],[mp_kategorie]],tab_WuP[],2,FALSE),"")))),0) | Q4: =IF(AND(tab_MP[[#This Row],[ID_geg]]=1,tab_MP[[#This Row],[ID_kat]]=1),"tab_Serverkomponenten[Subkategorie]",IF(AND(tab_MP[[#This Row],[ID_geg]]=1,tab_MP[[#This Row],[ID_kat]]=4),"tab_Projektraum[Subkategorie]","")) | R4: =IFERROR(IF(AND(tab_MP[[#This Row],[ID_geg]]=1,tab_MP[[#This Row],[ID_kat]]=1),VLOOKUP(tab_MP[[#This Row],[mp_subkategorie]],tab_Serverkomponenten[],2,FALSE),IF(AND(tab_MP[[#This Row],[ID_geg]]=1,tab_MP[[#This Row],[ID_kat]]=4),VLOOKUP(tab_MP[[#This Row],[mp_subkategorie]],tab_Projektraum[],2,FALSE),"")),0) | S4: =IFERROR(VLOOKUP(tab_MP[[#This Row],[mp_ort]],tab_ORT[],2,FALSE),"") | T4: =COUNTIFS($S$3:$S4,$S4,$S$3:$S4,">0") -> 0 | U4: =COUNTIFS(tab_MP[ID_ort],tab_MP[[#This Row],[ID_ort]],tab_MP[ID_ort],">0") -> 0
A5: =ROW()-2 -> 3 | K5: =IF(tab_MP[[#This Row],[prf_mp_janein]]="ja",tab_MP[[#This Row],[mp_zuw]],IF(tab_MP[[#This Row],[prf_mp_janein]]="nein",0,IF(tab_MP[[#This Row],[prf_mp_janein]]="teilweise",-1,""))) | M5: =AND(OR(tab_MP[[#This Row],[mp_zuw]]="",AND(tab_MP[[#This Row],[mp_zuw]]<>"",tab_MP[[#This Row],[prf_mp_janein]]<>"")),tab_MP[[#This Row],[prf_mp_ges]]<>-1) -> TRUE | N5: =IFERROR(VLOOKUP(tab_MP[[#This Row],[mp_gegenstand]],tab_GEGENSTAND[],4,FALSE),"") | O5: =IF(tab_MP[[#This Row],[ID_geg]]=1,"tab_System[Kategorie]",IF(tab_MP[[#This Row],[ID_geg]]=2,"tab_Werkzeug[Kategorie]",IF(tab_MP[[#This Row],[ID_geg]]=3,"tab_Dienst[Kategorie]",IF(tab_MP[[#This Row],[ID_geg]]=4,"tab_WuP[Kategorie]","")))) | P5: =IFERROR(IF(tab_MP[[#This Row],[ID_geg]]=1,VLOOKUP(tab_MP[[#This Row],[mp_kategorie]],tab_System[],2,FALSE),IF(tab_MP[[#This Row],[ID_geg]]=2,VLOOKUP(tab_MP[[#This Row],[mp_kategorie]],tab_Werkzeug[],2,FALSE),IF(tab_MP[[#This Row],[ID_geg]]=3,VLOOKUP(tab_MP[[#This Row],[mp_kategorie]],tab_Dienst[],2,FALSE),IF(tab_MP[[#This Row],[ID_geg]]=4,VLOOKUP(tab_MP[[#This Row],[mp_kategorie]],tab_WuP[],2,FALSE),"")))),0) | Q5: =IF(AND(tab_MP[[#This Row],[ID_geg]]=1,tab_MP[[#This Row],[ID_kat]]=1),"tab_Serverkomponenten[Subkategorie]",IF(AND(tab_MP[[#This Row],[ID_geg]]=1,tab_MP[[#This Row],[ID_kat]]=4),"tab_Projektraum[Subkategorie]","")) | R5: =IFERROR(IF(AND(tab_MP[[#This Row],[ID_geg]]=1,tab_MP[[#This Row],[ID_kat]]=1),VLOOKUP(tab_MP[[#This Row],[mp_subkategorie]],tab_Serverkomponenten[],2,FALSE),IF(AND(tab_MP[[#This Row],[ID_geg]]=1,tab_MP[[#This Row],[ID_kat]]=4),VLOOKUP(tab_MP[[#This Row],[mp_subkategorie]],tab_Projektraum[],2,FALSE),"")),0) | S5: =IFERROR(VLOOKUP(tab_MP[[#This Row],[mp_ort]],tab_ORT[],2,FALSE),"") | T5: =COUNTIFS($S$3:$S5,$S5,$S$3:$S5,">0") -> 0 | U5: =COUNTIFS(tab_MP[ID_ort],tab_MP[[#This Row],[ID_ort]],tab_MP[ID_ort],">0") -> 0
A6: =ROW()-2 -> 4 | K6: =IF(tab_MP[[#This Row],[prf_mp_janein]]="ja",tab_MP[[#This Row],[mp_zuw]],IF(tab_MP[[#This Row],[prf_mp_janein]]="nein",0,IF(tab_MP[[#This Row],[prf_mp_janein]]="teilweise",-1,""))) | M6: =AND(OR(tab_MP[[#This Row],[mp_zuw]]="",AND(tab_MP[[#This Row],[mp_zuw]]<>"",tab_MP[[#This Row],[prf_mp_janein]]<>"")),tab_MP[[#This Row],[prf_mp_ges]]<>-1) -> TRUE | N6: =IFERROR(VLOOKUP(tab_MP[[#This Row],[mp_gegenstand]],tab_GEGENSTAND[],4,FALSE),"") | O6: =IF(tab_MP[[#This Row],[ID_geg]]=1,"tab_System[Kategorie]",IF(tab_MP[[#This Row],[ID_geg]]=2,"tab_Werkzeug[Kategorie]",IF(tab_MP[[#This Row],[ID_geg]]=3,"tab_Dienst[Kategorie]",IF(tab_MP[[#This Row],[ID_geg]]=4,"tab_WuP[Kategorie]","")))) | P6: =IFERROR(IF(tab_MP[[#This Row],[ID_geg]]=1,VLOOKUP(tab_MP[[#This Row],[mp_kategorie]],tab_System[],2,FALSE),IF(tab_MP[[#This Row],[ID_geg]]=2,VLOOKUP(tab_MP[[#This Row],[mp_kategorie]],tab_Werkzeug[],2,FALSE),IF(tab_MP[[#This Row],[ID_geg]]=3,VLOOKUP(tab_MP[[#This Row],[mp_kategorie]],tab_Dienst[],2,FALSE),IF(tab_MP[[#This Row],[ID_geg]]=4,VLOOKUP(tab_MP[[#This Row],[mp_kategorie]],tab_WuP[],2,FALSE),"")))),0) | Q6: =IF(AND(tab_MP[[#This Row],[ID_geg]]=1,tab_MP[[#This Row],[ID_kat]]=1),"tab_Serverkomponenten[Subkategorie]",IF(AND(tab_MP[[#This Row],[ID_geg]]=1,tab_MP[[#This Row],[ID_kat]]=4),"tab_Projektraum[Subkategorie]","")) | R6: =IFERROR(IF(AND(tab_MP[[#This Row],[ID_geg]]=1,tab_MP[[#This Row],[ID_kat]]=1),VLOOKUP(tab_MP[[#This Row],[mp_subkategorie]],tab_Serverkomponenten[],2,FALSE),IF(AND(tab_MP[[#This Row],[ID_geg]]=1,tab_MP[[#This Row],[ID_kat]]=4),VLOOKUP(tab_MP[[#This Row],[mp_subkategorie]],tab_Projektraum[],2,FALSE),"")),0) | S6: =IFERROR(VLOOKUP(tab_MP[[#This Row],[mp_ort]],tab_ORT[],2,FALSE),"") | T6: =COUNTIFS($S$3:$S6,$S6,$S$3:$S6,">0") -> 0 | U6: =COUNTIFS(tab_MP[ID_ort],tab_MP[[#This Row],[ID_ort]],tab_MP[ID_ort],">0") -> 0
A7: =ROW()-2 -> 5 | K7: =IF(tab_MP[[#This Row],[prf_mp_janein]]="ja",tab_MP[[#This Row],[mp_zuw]],IF(tab_MP[[#This Row],[prf_mp_janein]]="nein",0,IF(tab_MP[[#This Row],[prf_mp_janein]]="teilweise",-1,""))) | M7: =AND(OR(tab_MP[[#This Row],[mp_zuw]]="",AND(tab_MP[[#This Row],[mp_zuw]]<>"",tab_MP[[#This Row],[prf_mp_janein]]<>"")),tab_MP[[#This Row],[prf_mp_ges]]<>-1) -> TRUE | N7: =IFERROR(VLOOKUP(tab_MP[[#This Row],[mp_gegenstand]],tab_GEGENSTAND[],4,FALSE),"") | O7: =IF(tab_MP[[#This Row],[ID_geg]]=1,"tab_System[Kategorie]",IF(tab_MP[[#This Row],[ID_geg]]=2,"tab_Werkzeug[Kategorie]",IF(tab_MP[[#This Row],[ID_geg]]=3,"tab_Dienst[Kategorie]",IF(tab_MP[[#This Row],[ID_geg]]=4,"tab_WuP[Kategorie]","")))) | P7: =IFERROR(IF(tab_MP[[#This Row],[ID_geg]]=1,VLOOKUP(tab_MP[[#This Row],[mp_kategorie]],tab_System[],2,FALSE),IF(tab_MP[[#This Row],[ID_geg]]=2,VLOOKUP(tab_MP[[#This Row],[mp_kategorie]],tab_Werkzeug[],2,FALSE),IF(tab_MP[[#This Row],[ID_geg]]=3,VLOOKUP(tab_MP[[#This Row],[mp_kategorie]],tab_Dienst[],2,FALSE),IF(tab_MP[[#This Row],[ID_geg]]=4,VLOOKUP(tab_MP[[#This Row],[mp_kategorie]],tab_WuP[],2,FALSE),"")))),0) | Q7: =IF(AND(tab_MP[[#This Row],[ID_geg]]=1,tab_MP[[#This Row],[ID_kat]]=1),"tab_Serverkomponenten[Subkategorie]",IF(AND(tab_MP[[#This Row],[ID_geg]]=1,tab_MP[[#This Row],[ID_kat]]=4),"tab_Projektraum[Subkategorie]","")) | R7: =IFERROR(IF(AND(tab_MP[[#This Row],[ID_geg]]=1,tab_MP[[#This Row],[ID_kat]]=1),VLOOKUP(tab_MP[[#This Row],[mp_subkategorie]],tab_Serverkomponenten[],2,FALSE),IF(AND(tab_MP[[#This Row],[ID_geg]]=1,tab_MP[[#This Row],[ID_kat]]=4),VLOOKUP(tab_MP[[#This Row],[mp_subkategorie]],tab_Projektraum[],2,FALSE),"")),0) | S7: =IFERROR(VLOOKUP(tab_MP[[#This Row],[mp_ort]],tab_ORT[],2,FALSE),"") | T7: =COUNTIFS($S$3:$S7,$S7,$S$3:$S7,">0") -> 0 | U7: =COUNTIFS(tab_MP[ID_ort],tab_MP[[#This Row],[ID_ort]],tab_MP[ID_ort],">0") -> 0
